BEGIN:VCALENDAR
VERSION:2.0
PRODID:-//Universität Innsbruck//LFU:online//DE
METHOD:PUBLISH
BEGIN:VEVENT
UID:19W_146413_3486698@uibk.ac.at
ORGANIZER;CN="LFU:online Universität Innsbruck":MAILTO:Uni-Innsbruck-noreply@uibk.ac.at
SUMMARY:VU Destinationsmanagement und -marketing (LV 146413-0 19W)
DESCRIPTION:Lehrveranstaltung 146413 19W, Gruppe 0\nTitel: VU Destinationsmanagement und -marketing\nOrt: SR 4 (Landeck)\n\nhttps://lfuonline.uibk.ac.at/public/lfuonline_lv.details?sem_id_in=19W&lvnr_id_in=146413\n
CLASS:PUBLIC
DTSTART:20191030T080000Z
DTEND:20191030T093000Z
DTSTAMP:20260420T130713Z
LOCATION:SR 4 (Landeck)
END:VEVENT
BEGIN:VEVENT
UID:19W_146413_3486699@uibk.ac.at
ORGANIZER;CN="LFU:online Universität Innsbruck":MAILTO:Uni-Innsbruck-noreply@uibk.ac.at
SUMMARY:VU Destinationsmanagement und -marketing (LV 146413-0 19W)
DESCRIPTION:Lehrveranstaltung 146413 19W, Gruppe 0\nTitel: VU Destinationsmanagement und -marketing\nOrt: SR 4 (Landeck)\n\nhttps://lfuonline.uibk.ac.at/public/lfuonline_lv.details?sem_id_in=19W&lvnr_id_in=146413\n
CLASS:PUBLIC
DTSTART:20191030T094500Z
DTEND:20191030T111500Z
DTSTAMP:20260420T130713Z
LOCATION:SR 4 (Landeck)
END:VEVENT
BEGIN:VEVENT
UID:19W_146413_3486700@uibk.ac.at
ORGANIZER;CN="LFU:online Universität Innsbruck":MAILTO:Uni-Innsbruck-noreply@uibk.ac.at
SUMMARY:VU Destinationsmanagement und -marketing (LV 146413-0 19W)
DESCRIPTION:Lehrveranstaltung 146413 19W, Gruppe 0\nTitel: VU Destinationsmanagement und -marketing\nOrt: SR 4 (Landeck)\n\nhttps://lfuonline.uibk.ac.at/public/lfuonline_lv.details?sem_id_in=19W&lvnr_id_in=146413\n
CLASS:PUBLIC
DTSTART:20191030T114500Z
DTEND:20191030T131500Z
DTSTAMP:20260420T130713Z
LOCATION:SR 4 (Landeck)
END:VEVENT
BEGIN:VEVENT
UID:19W_146413_3420120@uibk.ac.at
ORGANIZER;CN="LFU:online Universität Innsbruck":MAILTO:Uni-Innsbruck-noreply@uibk.ac.at
SUMMARY:VU Destinationsmanagement und -marketing (LV 146413-0 19W)
DESCRIPTION:Lehrveranstaltung 146413 19W, Gruppe 0\nTitel: VU Destinationsmanagement und -marketing\nOrt: SR 4 (Landeck)\n\nhttps://lfuonline.uibk.ac.at/public/lfuonline_lv.details?sem_id_in=19W&lvnr_id_in=146413\n
CLASS:PUBLIC
DTSTART:20191104T080000Z
DTEND:20191104T093000Z
DTSTAMP:20260420T130713Z
LOCATION:SR 4 (Landeck)
END:VEVENT
BEGIN:VEVENT
UID:19W_146413_3420121@uibk.ac.at
ORGANIZER;CN="LFU:online Universität Innsbruck":MAILTO:Uni-Innsbruck-noreply@uibk.ac.at
SUMMARY:VU Destinationsmanagement und -marketing (LV 146413-0 19W)
DESCRIPTION:Lehrveranstaltung 146413 19W, Gruppe 0\nTitel: VU Destinationsmanagement und -marketing\nOrt: SR 4 (Landeck)\n\nhttps://lfuonline.uibk.ac.at/public/lfuonline_lv.details?sem_id_in=19W&lvnr_id_in=146413\n
CLASS:PUBLIC
DTSTART:20191104T094500Z
DTEND:20191104T111500Z
DTSTAMP:20260420T130713Z
LOCATION:SR 4 (Landeck)
END:VEVENT
BEGIN:VEVENT
UID:19W_146413_3420122@uibk.ac.at
ORGANIZER;CN="LFU:online Universität Innsbruck":MAILTO:Uni-Innsbruck-noreply@uibk.ac.at
SUMMARY:VU Destinationsmanagement und -marketing (LV 146413-0 19W)
DESCRIPTION:Lehrveranstaltung 146413 19W, Gruppe 0\nTitel: VU Destinationsmanagement und -marketing\nOrt: SR 4 (Landeck)\n\nhttps://lfuonline.uibk.ac.at/public/lfuonline_lv.details?sem_id_in=19W&lvnr_id_in=146413\n
CLASS:PUBLIC
DTSTART:20191104T114500Z
DTEND:20191104T131500Z
DTSTAMP:20260420T130713Z
LOCATION:SR 4 (Landeck)
END:VEVENT
BEGIN:VEVENT
UID:19W_146413_3420123@uibk.ac.at
ORGANIZER;CN="LFU:online Universität Innsbruck":MAILTO:Uni-Innsbruck-noreply@uibk.ac.at
SUMMARY:VU Destinationsmanagement und -marketing (LV 146413-0 19W)
DESCRIPTION:Lehrveranstaltung 146413 19W, Gruppe 0\nTitel: VU Destinationsmanagement und -marketing\nOrt: UR 2 (Landeck)\n\nhttps://lfuonline.uibk.ac.at/public/lfuonline_lv.details?sem_id_in=19W&lvnr_id_in=146413\n
CLASS:PUBLIC
DTSTART:20191111T080000Z
DTEND:20191111T093000Z
DTSTAMP:20260420T130713Z
LOCATION:UR 2 (Landeck)
END:VEVENT
BEGIN:VEVENT
UID:19W_146413_3420128@uibk.ac.at
ORGANIZER;CN="LFU:online Universität Innsbruck":MAILTO:Uni-Innsbruck-noreply@uibk.ac.at
SUMMARY:VU Destinationsmanagement und -marketing (LV 146413-0 19W)
DESCRIPTION:Lehrveranstaltung 146413 19W, Gruppe 0\nTitel: VU Destinationsmanagement und -marketing\nOrt: UR 2 (Landeck)\n\nhttps://lfuonline.uibk.ac.at/public/lfuonline_lv.details?sem_id_in=19W&lvnr_id_in=146413\n
CLASS:PUBLIC
DTSTART:20191111T094500Z
DTEND:20191111T111500Z
DTSTAMP:20260420T130713Z
LOCATION:UR 2 (Landeck)
END:VEVENT
BEGIN:VEVENT
UID:19W_146413_3420133@uibk.ac.at
ORGANIZER;CN="LFU:online Universität Innsbruck":MAILTO:Uni-Innsbruck-noreply@uibk.ac.at
SUMMARY:VU Destinationsmanagement und -marketing (LV 146413-0 19W)
DESCRIPTION:Lehrveranstaltung 146413 19W, Gruppe 0\nTitel: VU Destinationsmanagement und -marketing\nOrt: UR 2 (Landeck)\n\nhttps://lfuonline.uibk.ac.at/public/lfuonline_lv.details?sem_id_in=19W&lvnr_id_in=146413\n
CLASS:PUBLIC
DTSTART:20191111T114500Z
DTEND:20191111T131500Z
DTSTAMP:20260420T130713Z
LOCATION:UR 2 (Landeck)
END:VEVENT
BEGIN:VEVENT
UID:19W_146413_3420124@uibk.ac.at
ORGANIZER;CN="LFU:online Universität Innsbruck":MAILTO:Uni-Innsbruck-noreply@uibk.ac.at
SUMMARY:VU Destinationsmanagement und -marketing (LV 146413-0 19W)
DESCRIPTION:Lehrveranstaltung 146413 19W, Gruppe 0\nTitel: VU Destinationsmanagement und -marketing\nOrt: UR 2 (Landeck)\n\nhttps://lfuonline.uibk.ac.at/public/lfuonline_lv.details?sem_id_in=19W&lvnr_id_in=146413\n
CLASS:PUBLIC
DTSTART:20191119T080000Z
DTEND:20191119T093000Z
DTSTAMP:20260420T130713Z
LOCATION:UR 2 (Landeck)
END:VEVENT
BEGIN:VEVENT
UID:19W_146413_3420129@uibk.ac.at
ORGANIZER;CN="LFU:online Universität Innsbruck":MAILTO:Uni-Innsbruck-noreply@uibk.ac.at
SUMMARY:VU Destinationsmanagement und -marketing (LV 146413-0 19W)
DESCRIPTION:Lehrveranstaltung 146413 19W, Gruppe 0\nTitel: VU Destinationsmanagement und -marketing\nOrt: UR 2 (Landeck)\n\nhttps://lfuonline.uibk.ac.at/public/lfuonline_lv.details?sem_id_in=19W&lvnr_id_in=146413\n
CLASS:PUBLIC
DTSTART:20191119T094500Z
DTEND:20191119T111500Z
DTSTAMP:20260420T130713Z
LOCATION:UR 2 (Landeck)
END:VEVENT
BEGIN:VEVENT
UID:19W_146413_3420134@uibk.ac.at
ORGANIZER;CN="LFU:online Universität Innsbruck":MAILTO:Uni-Innsbruck-noreply@uibk.ac.at
SUMMARY:VU Destinationsmanagement und -marketing (LV 146413-0 19W)
DESCRIPTION:Lehrveranstaltung 146413 19W, Gruppe 0\nTitel: VU Destinationsmanagement und -marketing\nOrt: UR 2 (Landeck)\n\nhttps://lfuonline.uibk.ac.at/public/lfuonline_lv.details?sem_id_in=19W&lvnr_id_in=146413\n
CLASS:PUBLIC
DTSTART:20191119T114500Z
DTEND:20191119T131500Z
DTSTAMP:20260420T130713Z
LOCATION:UR 2 (Landeck)
END:VEVENT
BEGIN:VEVENT
UID:19W_146413_3433802@uibk.ac.at
ORGANIZER;CN="LFU:online Universität Innsbruck":MAILTO:Uni-Innsbruck-noreply@uibk.ac.at
SUMMARY:VU Destinationsmanagement und -marketing (LV 146413-0 19W)
DESCRIPTION:Lehrveranstaltung 146413 19W, Gruppe 0\nTitel: VU Destinationsmanagement und -marketing\nOrt: SR 2 (Landeck)\n\nhttps://lfuonline.uibk.ac.at/public/lfuonline_lv.details?sem_id_in=19W&lvnr_id_in=146413\n
CLASS:PUBLIC
DTSTART:20191202T080000Z
DTEND:20191202T093000Z
DTSTAMP:20260420T130713Z
LOCATION:SR 2 (Landeck)
END:VEVENT
BEGIN:VEVENT
UID:19W_146413_3433803@uibk.ac.at
ORGANIZER;CN="LFU:online Universität Innsbruck":MAILTO:Uni-Innsbruck-noreply@uibk.ac.at
SUMMARY:VU Destinationsmanagement und -marketing (LV 146413-0 19W)
DESCRIPTION:Lehrveranstaltung 146413 19W, Gruppe 0\nTitel: VU Destinationsmanagement und -marketing\nOrt: SR 2 (Landeck)\n\nhttps://lfuonline.uibk.ac.at/public/lfuonline_lv.details?sem_id_in=19W&lvnr_id_in=146413\n
CLASS:PUBLIC
DTSTART:20191202T094500Z
DTEND:20191202T111500Z
DTSTAMP:20260420T130713Z
LOCATION:SR 2 (Landeck)
END:VEVENT
BEGIN:VEVENT
UID:19W_146413_3433804@uibk.ac.at
ORGANIZER;CN="LFU:online Universität Innsbruck":MAILTO:Uni-Innsbruck-noreply@uibk.ac.at
SUMMARY:VU Destinationsmanagement und -marketing (LV 146413-0 19W)
DESCRIPTION:Lehrveranstaltung 146413 19W, Gruppe 0\nTitel: VU Destinationsmanagement und -marketing\nOrt: SR 2 (Landeck)\n\nhttps://lfuonline.uibk.ac.at/public/lfuonline_lv.details?sem_id_in=19W&lvnr_id_in=146413\n
CLASS:PUBLIC
DTSTART:20191202T114500Z
DTEND:20191202T131500Z
DTSTAMP:20260420T130713Z
LOCATION:SR 2 (Landeck)
END:VEVENT
BEGIN:VEVENT
UID:19W_146413_3486702@uibk.ac.at
ORGANIZER;CN="LFU:online Universität Innsbruck":MAILTO:Uni-Innsbruck-noreply@uibk.ac.at
SUMMARY:VU Destinationsmanagement und -marketing (LV 146413-0 19W)
DESCRIPTION:Lehrveranstaltung 146413 19W, Gruppe 0\nTitel: VU Destinationsmanagement und -marketing\nOrt: UR 2 (Landeck)\n\nhttps://lfuonline.uibk.ac.at/public/lfuonline_lv.details?sem_id_in=19W&lvnr_id_in=146413\n
CLASS:PUBLIC
DTSTART:20200117T140000Z
DTEND:20200117T150000Z
DTSTAMP:20260420T130713Z
LOCATION:UR 2 (Landeck)
COMMENT:Klausurtermin
END:VEVENT
END:VCALENDAR