BEGIN:VCALENDAR
VERSION:2.0
PRODID:-//Universität Innsbruck//LFU:online//DE
METHOD:PUBLISH
BEGIN:VEVENT
UID:22W_325251_4201655@uibk.ac.at
ORGANIZER;CN="LFU:online Universität Innsbruck":MAILTO:Uni-Innsbruck-noreply@uibk.ac.at
SUMMARY:VO Comparative public law (LV 325251-0 22W)
DESCRIPTION:Lehrveranstaltung 325251 22W, Gruppe 0\nTitel: VO Comparative public law\nOrt: UR 3108\n\nhttps://lfuonline.uibk.ac.at/public/lfuonline_lv.details?sem_id_in=22W&lvnr_id_in=325251\n
CLASS:PUBLIC
DTSTART:20221010T080000Z
DTEND:20221010T101500Z
DTSTAMP:20260419T130557Z
LOCATION:UR 3108
END:VEVENT
BEGIN:VEVENT
UID:22W_325251_4141264@uibk.ac.at
ORGANIZER;CN="LFU:online Universität Innsbruck":MAILTO:Uni-Innsbruck-noreply@uibk.ac.at
SUMMARY:VO Comparative public law (LV 325251-0 22W)
DESCRIPTION:Lehrveranstaltung 325251 22W, Gruppe 0\nTitel: VO Comparative public law\nOrt: UR 3108\n\nhttps://lfuonline.uibk.ac.at/public/lfuonline_lv.details?sem_id_in=22W&lvnr_id_in=325251\n
CLASS:PUBLIC
DTSTART:20221010T130000Z
DTEND:20221010T151500Z
DTSTAMP:20260419T130557Z
LOCATION:UR 3108
END:VEVENT
BEGIN:VEVENT
UID:22W_325251_4141271@uibk.ac.at
ORGANIZER;CN="LFU:online Universität Innsbruck":MAILTO:Uni-Innsbruck-noreply@uibk.ac.at
SUMMARY:VO Comparative public law (LV 325251-0 22W)
DESCRIPTION:Lehrveranstaltung 325251 22W, Gruppe 0\nTitel: VO Comparative public law\nOrt: UR 3108\n\nhttps://lfuonline.uibk.ac.at/public/lfuonline_lv.details?sem_id_in=22W&lvnr_id_in=325251\n
CLASS:PUBLIC
DTSTART:20221011T073000Z
DTEND:20221011T094500Z
DTSTAMP:20260419T130557Z
LOCATION:UR 3108
END:VEVENT
BEGIN:VEVENT
UID:22W_325251_4141273@uibk.ac.at
ORGANIZER;CN="LFU:online Universität Innsbruck":MAILTO:Uni-Innsbruck-noreply@uibk.ac.at
SUMMARY:VO Comparative public law (LV 325251-0 22W)
DESCRIPTION:Lehrveranstaltung 325251 22W, Gruppe 0\nTitel: VO Comparative public law\nOrt: Container 1\n\nhttps://lfuonline.uibk.ac.at/public/lfuonline_lv.details?sem_id_in=22W&lvnr_id_in=325251\n
CLASS:PUBLIC
DTSTART:20221011T143000Z
DTEND:20221011T160000Z
DTSTAMP:20260419T130557Z
LOCATION:Container 1
END:VEVENT
BEGIN:VEVENT
UID:22W_325251_4141274@uibk.ac.at
ORGANIZER;CN="LFU:online Universität Innsbruck":MAILTO:Uni-Innsbruck-noreply@uibk.ac.at
SUMMARY:VO Comparative public law (LV 325251-0 22W)
DESCRIPTION:Lehrveranstaltung 325251 22W, Gruppe 0\nTitel: VO Comparative public law\nOrt: UR 3108\n\nhttps://lfuonline.uibk.ac.at/public/lfuonline_lv.details?sem_id_in=22W&lvnr_id_in=325251\n
CLASS:PUBLIC
DTSTART:20221012T083000Z
DTEND:20221012T104500Z
DTSTAMP:20260419T130557Z
LOCATION:UR 3108
END:VEVENT
BEGIN:VEVENT
UID:22W_325251_4190541@uibk.ac.at
ORGANIZER;CN="LFU:online Universität Innsbruck":MAILTO:Uni-Innsbruck-noreply@uibk.ac.at
SUMMARY:VO Comparative public law (LV 325251-0 22W)
DESCRIPTION:Lehrveranstaltung 325251 22W, Gruppe 0\nTitel: VO Comparative public law\nOrt: online (Italienisches Recht)\n\nhttps://lfuonline.uibk.ac.at/public/lfuonline_lv.details?sem_id_in=22W&lvnr_id_in=325251\n
CLASS:PUBLIC
DTSTART:20221017T080000Z
DTEND:20221017T101500Z
DTSTAMP:20260419T130557Z
LOCATION:online (Italienisches Recht)
END:VEVENT
BEGIN:VEVENT
UID:22W_325251_4141284@uibk.ac.at
ORGANIZER;CN="LFU:online Universität Innsbruck":MAILTO:Uni-Innsbruck-noreply@uibk.ac.at
SUMMARY:VO Comparative public law (LV 325251-0 22W)
DESCRIPTION:Lehrveranstaltung 325251 22W, Gruppe 0\nTitel: VO Comparative public law\nOrt: online (Italienisches Recht)\n\nhttps://lfuonline.uibk.ac.at/public/lfuonline_lv.details?sem_id_in=22W&lvnr_id_in=325251\n
CLASS:PUBLIC
DTSTART:20221018T144500Z
DTEND:20221018T170000Z
DTSTAMP:20260419T130557Z
LOCATION:online (Italienisches Recht)
END:VEVENT
BEGIN:VEVENT
UID:22W_325251_4141287@uibk.ac.at
ORGANIZER;CN="LFU:online Universität Innsbruck":MAILTO:Uni-Innsbruck-noreply@uibk.ac.at
SUMMARY:VO Comparative public law (LV 325251-0 22W)
DESCRIPTION:Lehrveranstaltung 325251 22W, Gruppe 0\nTitel: VO Comparative public law\nOrt: online (Italienisches Recht)\n\nhttps://lfuonline.uibk.ac.at/public/lfuonline_lv.details?sem_id_in=22W&lvnr_id_in=325251\n
CLASS:PUBLIC
DTSTART:20221019T080000Z
DTEND:20221019T101500Z
DTSTAMP:20260419T130557Z
LOCATION:online (Italienisches Recht)
END:VEVENT
BEGIN:VEVENT
UID:22W_325251_4203139@uibk.ac.at
ORGANIZER;CN="LFU:online Universität Innsbruck":MAILTO:Uni-Innsbruck-noreply@uibk.ac.at
SUMMARY:VO Comparative public law (LV 325251-0 22W)
DESCRIPTION:Lehrveranstaltung 325251 22W, Gruppe 0\nTitel: VO Comparative public law\nOrt: eLecture - online\n\nhttps://lfuonline.uibk.ac.at/public/lfuonline_lv.details?sem_id_in=22W&lvnr_id_in=325251\n
CLASS:PUBLIC
DTSTART:20221020T090000Z
DTEND:20221020T103000Z
DTSTAMP:20260419T130557Z
LOCATION:eLecture - online
END:VEVENT
BEGIN:VEVENT
UID:22W_325251_4203113@uibk.ac.at
ORGANIZER;CN="LFU:online Universität Innsbruck":MAILTO:Uni-Innsbruck-noreply@uibk.ac.at
SUMMARY:VO Comparative public law (LV 325251-0 22W)
DESCRIPTION:Lehrveranstaltung 325251 22W, Gruppe 0\nTitel: VO Comparative public law\nOrt: eLecture - online\n\nhttps://lfuonline.uibk.ac.at/public/lfuonline_lv.details?sem_id_in=22W&lvnr_id_in=325251\n
CLASS:PUBLIC
DTSTART:20221020T113000Z
DTEND:20221020T133000Z
DTSTAMP:20260419T130557Z
LOCATION:eLecture - online
END:VEVENT
BEGIN:VEVENT
UID:22W_325251_4203114@uibk.ac.at
ORGANIZER;CN="LFU:online Universität Innsbruck":MAILTO:Uni-Innsbruck-noreply@uibk.ac.at
SUMMARY:VO Comparative public law (LV 325251-0 22W)
DESCRIPTION:Lehrveranstaltung 325251 22W, Gruppe 0\nTitel: VO Comparative public law\nOrt: online (Italienisches Recht)\n\nhttps://lfuonline.uibk.ac.at/public/lfuonline_lv.details?sem_id_in=22W&lvnr_id_in=325251\n
CLASS:PUBLIC
DTSTART:20221021T133000Z
DTEND:20221021T150000Z
DTSTAMP:20260419T130557Z
LOCATION:online (Italienisches Recht)
END:VEVENT
END:VCALENDAR