BEGIN:VCALENDAR
VERSION:2.0
PRODID:-//Universität Innsbruck//LFU:online//DE
METHOD:PUBLISH
BEGIN:VEVENT
UID:22W_408601_4149122@uibk.ac.at
ORGANIZER;CN="LFU:online Universität Innsbruck":MAILTO:Uni-Innsbruck-noreply@uibk.ac.at
SUMMARY:SE Geschichte der sozialen und politischen Ideen (LV 408601-0 22W)
DESCRIPTION:Lehrveranstaltung 408601 22W, Gruppe 0\nTitel: SE Geschichte der sozialen und politischen Ideen\nOrt: SR  8 (Sowi)\n\nhttps://lfuonline.uibk.ac.at/public/lfuonline_lv.details?sem_id_in=22W&lvnr_id_in=408601\n
CLASS:PUBLIC
DTSTART:20221010T140000Z
DTEND:20221010T154500Z
DTSTAMP:20260420T235325Z
LOCATION:SR  8 (Sowi)
END:VEVENT
BEGIN:VEVENT
UID:22W_408601_4149124@uibk.ac.at
ORGANIZER;CN="LFU:online Universität Innsbruck":MAILTO:Uni-Innsbruck-noreply@uibk.ac.at
SUMMARY:SE Geschichte der sozialen und politischen Ideen (LV 408601-0 22W)
DESCRIPTION:Lehrveranstaltung 408601 22W, Gruppe 0\nTitel: SE Geschichte der sozialen und politischen Ideen\nOrt: SR  6 (Sowi)\n\nhttps://lfuonline.uibk.ac.at/public/lfuonline_lv.details?sem_id_in=22W&lvnr_id_in=408601\n
CLASS:PUBLIC
DTSTART:20221017T140000Z
DTEND:20221017T154500Z
DTSTAMP:20260420T235325Z
LOCATION:SR  6 (Sowi)
END:VEVENT
BEGIN:VEVENT
UID:22W_408601_4149125@uibk.ac.at
ORGANIZER;CN="LFU:online Universität Innsbruck":MAILTO:Uni-Innsbruck-noreply@uibk.ac.at
SUMMARY:SE Geschichte der sozialen und politischen Ideen (LV 408601-0 22W)
DESCRIPTION:Lehrveranstaltung 408601 22W, Gruppe 0\nTitel: SE Geschichte der sozialen und politischen Ideen\nOrt: SR  6 (Sowi)\n\nhttps://lfuonline.uibk.ac.at/public/lfuonline_lv.details?sem_id_in=22W&lvnr_id_in=408601\n
CLASS:PUBLIC
DTSTART:20221024T140000Z
DTEND:20221024T154500Z
DTSTAMP:20260420T235325Z
LOCATION:SR  6 (Sowi)
END:VEVENT
BEGIN:VEVENT
UID:22W_408601_4105801@uibk.ac.at
ORGANIZER;CN="LFU:online Universität Innsbruck":MAILTO:Uni-Innsbruck-noreply@uibk.ac.at
SUMMARY:SE Geschichte der sozialen und politischen Ideen (LV 408601-0 22W)
DESCRIPTION:Lehrveranstaltung 408601 22W, Gruppe 0\nTitel: SE Geschichte der sozialen und politischen Ideen\nOrt: SR 17 (Sowi)\n\nhttps://lfuonline.uibk.ac.at/public/lfuonline_lv.details?sem_id_in=22W&lvnr_id_in=408601\n
CLASS:PUBLIC
DTSTART:20221031T150000Z
DTEND:20221031T164500Z
DTSTAMP:20260420T235325Z
LOCATION:SR 17 (Sowi)
END:VEVENT
BEGIN:VEVENT
UID:22W_408601_4149126@uibk.ac.at
ORGANIZER;CN="LFU:online Universität Innsbruck":MAILTO:Uni-Innsbruck-noreply@uibk.ac.at
SUMMARY:SE Geschichte der sozialen und politischen Ideen (LV 408601-0 22W)
DESCRIPTION:Lehrveranstaltung 408601 22W, Gruppe 0\nTitel: SE Geschichte der sozialen und politischen Ideen\nOrt: SR 18 (Sowi)\n\nhttps://lfuonline.uibk.ac.at/public/lfuonline_lv.details?sem_id_in=22W&lvnr_id_in=408601\n
CLASS:PUBLIC
DTSTART:20221107T150000Z
DTEND:20221107T164500Z
DTSTAMP:20260420T235325Z
LOCATION:SR 18 (Sowi)
END:VEVENT
BEGIN:VEVENT
UID:22W_408601_4175192@uibk.ac.at
ORGANIZER;CN="LFU:online Universität Innsbruck":MAILTO:Uni-Innsbruck-noreply@uibk.ac.at
SUMMARY:SE Geschichte der sozialen und politischen Ideen (LV 408601-0 22W)
DESCRIPTION:Lehrveranstaltung 408601 22W, Gruppe 0\nTitel: SE Geschichte der sozialen und politischen Ideen\nOrt: SR 11 (Sowi)\n\nhttps://lfuonline.uibk.ac.at/public/lfuonline_lv.details?sem_id_in=22W&lvnr_id_in=408601\n
CLASS:PUBLIC
DTSTART:20221114T150000Z
DTEND:20221114T164500Z
DTSTAMP:20260420T235325Z
LOCATION:SR 11 (Sowi)
END:VEVENT
BEGIN:VEVENT
UID:22W_408601_4184654@uibk.ac.at
ORGANIZER;CN="LFU:online Universität Innsbruck":MAILTO:Uni-Innsbruck-noreply@uibk.ac.at
SUMMARY:SE Geschichte der sozialen und politischen Ideen (LV 408601-0 22W)
DESCRIPTION:Lehrveranstaltung 408601 22W, Gruppe 0\nTitel: SE Geschichte der sozialen und politischen Ideen\nOrt: SR 11 (Sowi)\n\nhttps://lfuonline.uibk.ac.at/public/lfuonline_lv.details?sem_id_in=22W&lvnr_id_in=408601\n
CLASS:PUBLIC
DTSTART:20221121T150000Z
DTEND:20221121T164500Z
DTSTAMP:20260420T235325Z
LOCATION:SR 11 (Sowi)
END:VEVENT
BEGIN:VEVENT
UID:22W_408601_4184713@uibk.ac.at
ORGANIZER;CN="LFU:online Universität Innsbruck":MAILTO:Uni-Innsbruck-noreply@uibk.ac.at
SUMMARY:SE Geschichte der sozialen und politischen Ideen (LV 408601-0 22W)
DESCRIPTION:Lehrveranstaltung 408601 22W, Gruppe 0\nTitel: SE Geschichte der sozialen und politischen Ideen\nOrt: eLecture - online\n\nhttps://lfuonline.uibk.ac.at/public/lfuonline_lv.details?sem_id_in=22W&lvnr_id_in=408601\n
CLASS:PUBLIC
DTSTART:20221128T150000Z
DTEND:20221128T164500Z
DTSTAMP:20260420T235325Z
LOCATION:eLecture - online
END:VEVENT
BEGIN:VEVENT
UID:22W_408601_4149134@uibk.ac.at
ORGANIZER;CN="LFU:online Universität Innsbruck":MAILTO:Uni-Innsbruck-noreply@uibk.ac.at
SUMMARY:SE Geschichte der sozialen und politischen Ideen (LV 408601-0 22W)
DESCRIPTION:Lehrveranstaltung 408601 22W, Gruppe 0\nTitel: SE Geschichte der sozialen und politischen Ideen\nOrt: SR 12 (Sowi)\n\nhttps://lfuonline.uibk.ac.at/public/lfuonline_lv.details?sem_id_in=22W&lvnr_id_in=408601\n
CLASS:PUBLIC
DTSTART:20221205T150000Z
DTEND:20221205T164500Z
DTSTAMP:20260420T235325Z
LOCATION:SR 12 (Sowi)
END:VEVENT
BEGIN:VEVENT
UID:22W_408601_4105807@uibk.ac.at
ORGANIZER;CN="LFU:online Universität Innsbruck":MAILTO:Uni-Innsbruck-noreply@uibk.ac.at
SUMMARY:SE Geschichte der sozialen und politischen Ideen (LV 408601-0 22W)
DESCRIPTION:Lehrveranstaltung 408601 22W, Gruppe 0\nTitel: SE Geschichte der sozialen und politischen Ideen\nOrt: SR 17 (Sowi)\n\nhttps://lfuonline.uibk.ac.at/public/lfuonline_lv.details?sem_id_in=22W&lvnr_id_in=408601\n
CLASS:PUBLIC
DTSTART:20221212T150000Z
DTEND:20221212T164500Z
DTSTAMP:20260420T235325Z
LOCATION:SR 17 (Sowi)
END:VEVENT
BEGIN:VEVENT
UID:22W_408601_4105808@uibk.ac.at
ORGANIZER;CN="LFU:online Universität Innsbruck":MAILTO:Uni-Innsbruck-noreply@uibk.ac.at
SUMMARY:SE Geschichte der sozialen und politischen Ideen (LV 408601-0 22W)
DESCRIPTION:Lehrveranstaltung 408601 22W, Gruppe 0\nTitel: SE Geschichte der sozialen und politischen Ideen\nOrt: SR 17 (Sowi)\n\nhttps://lfuonline.uibk.ac.at/public/lfuonline_lv.details?sem_id_in=22W&lvnr_id_in=408601\n
CLASS:PUBLIC
DTSTART:20230109T150000Z
DTEND:20230109T164500Z
DTSTAMP:20260420T235325Z
LOCATION:SR 17 (Sowi)
END:VEVENT
BEGIN:VEVENT
UID:22W_408601_4105809@uibk.ac.at
ORGANIZER;CN="LFU:online Universität Innsbruck":MAILTO:Uni-Innsbruck-noreply@uibk.ac.at
SUMMARY:SE Geschichte der sozialen und politischen Ideen (LV 408601-0 22W)
DESCRIPTION:Lehrveranstaltung 408601 22W, Gruppe 0\nTitel: SE Geschichte der sozialen und politischen Ideen\nOrt: SR 17 (Sowi)\n\nhttps://lfuonline.uibk.ac.at/public/lfuonline_lv.details?sem_id_in=22W&lvnr_id_in=408601\n
CLASS:PUBLIC
DTSTART:20230116T150000Z
DTEND:20230116T164500Z
DTSTAMP:20260420T235325Z
LOCATION:SR 17 (Sowi)
END:VEVENT
BEGIN:VEVENT
UID:22W_408601_4105810@uibk.ac.at
ORGANIZER;CN="LFU:online Universität Innsbruck":MAILTO:Uni-Innsbruck-noreply@uibk.ac.at
SUMMARY:SE Geschichte der sozialen und politischen Ideen (LV 408601-0 22W)
DESCRIPTION:Lehrveranstaltung 408601 22W, Gruppe 0\nTitel: SE Geschichte der sozialen und politischen Ideen\nOrt: SR 17 (Sowi)\n\nhttps://lfuonline.uibk.ac.at/public/lfuonline_lv.details?sem_id_in=22W&lvnr_id_in=408601\n
CLASS:PUBLIC
DTSTART:20230123T150000Z
DTEND:20230123T164500Z
DTSTAMP:20260420T235325Z
LOCATION:SR 17 (Sowi)
END:VEVENT
BEGIN:VEVENT
UID:22W_408601_4105811@uibk.ac.at
ORGANIZER;CN="LFU:online Universität Innsbruck":MAILTO:Uni-Innsbruck-noreply@uibk.ac.at
SUMMARY:SE Geschichte der sozialen und politischen Ideen (LV 408601-0 22W)
DESCRIPTION:Lehrveranstaltung 408601 22W, Gruppe 0\nTitel: SE Geschichte der sozialen und politischen Ideen\nOrt: SR 17 (Sowi)\n\nhttps://lfuonline.uibk.ac.at/public/lfuonline_lv.details?sem_id_in=22W&lvnr_id_in=408601\n
CLASS:PUBLIC
DTSTART:20230130T150000Z
DTEND:20230130T164500Z
DTSTAMP:20260420T235325Z
LOCATION:SR 17 (Sowi)
END:VEVENT
END:VCALENDAR