BEGIN:VCALENDAR
VERSION:2.0
PRODID:-//Universität Innsbruck//LFU:online//DE
METHOD:PUBLISH
BEGIN:VEVENT
UID:22W_432125_4078651@uibk.ac.at
ORGANIZER;CN="LFU:online Universität Innsbruck":MAILTO:Uni-Innsbruck-noreply@uibk.ac.at
SUMMARY:VU Wirtschaftspolitik: Methoden der Datenanalyse in der Umweltökonomie (LV 432125-0 22W)
DESCRIPTION:Lehrveranstaltung 432125 22W, Gruppe 0\nTitel: VU Wirtschaftspolitik: Methoden der Datenanalyse in der Umweltökonomie\nOrt: SR  9 (Sowi)\n\nhttps://lfuonline.uibk.ac.at/public/lfuonline_lv.details?sem_id_in=22W&lvnr_id_in=432125\n
CLASS:PUBLIC
DTSTART:20221005T140000Z
DTEND:20221005T164500Z
DTSTAMP:20260420T073211Z
LOCATION:SR  9 (Sowi)
END:VEVENT
BEGIN:VEVENT
UID:22W_432125_4078652@uibk.ac.at
ORGANIZER;CN="LFU:online Universität Innsbruck":MAILTO:Uni-Innsbruck-noreply@uibk.ac.at
SUMMARY:VU Wirtschaftspolitik: Methoden der Datenanalyse in der Umweltökonomie (LV 432125-0 22W)
DESCRIPTION:Lehrveranstaltung 432125 22W, Gruppe 0\nTitel: VU Wirtschaftspolitik: Methoden der Datenanalyse in der Umweltökonomie\nOrt: SR  9 (Sowi)\n\nhttps://lfuonline.uibk.ac.at/public/lfuonline_lv.details?sem_id_in=22W&lvnr_id_in=432125\n
CLASS:PUBLIC
DTSTART:20221012T140000Z
DTEND:20221012T164500Z
DTSTAMP:20260420T073211Z
LOCATION:SR  9 (Sowi)
END:VEVENT
BEGIN:VEVENT
UID:22W_432125_4078653@uibk.ac.at
ORGANIZER;CN="LFU:online Universität Innsbruck":MAILTO:Uni-Innsbruck-noreply@uibk.ac.at
SUMMARY:VU Wirtschaftspolitik: Methoden der Datenanalyse in der Umweltökonomie (LV 432125-0 22W)
DESCRIPTION:Lehrveranstaltung 432125 22W, Gruppe 0\nTitel: VU Wirtschaftspolitik: Methoden der Datenanalyse in der Umweltökonomie\nOrt: SR  9 (Sowi)\n\nhttps://lfuonline.uibk.ac.at/public/lfuonline_lv.details?sem_id_in=22W&lvnr_id_in=432125\n
CLASS:PUBLIC
DTSTART:20221019T140000Z
DTEND:20221019T164500Z
DTSTAMP:20260420T073211Z
LOCATION:SR  9 (Sowi)
END:VEVENT
BEGIN:VEVENT
UID:22W_432125_4078654@uibk.ac.at
ORGANIZER;CN="LFU:online Universität Innsbruck":MAILTO:Uni-Innsbruck-noreply@uibk.ac.at
SUMMARY:VU Wirtschaftspolitik: Methoden der Datenanalyse in der Umweltökonomie (LV 432125-0 22W)
DESCRIPTION:Lehrveranstaltung 432125 22W, Gruppe 0\nTitel: VU Wirtschaftspolitik: Methoden der Datenanalyse in der Umweltökonomie\nOrt: SR  9 (Sowi)\n\nhttps://lfuonline.uibk.ac.at/public/lfuonline_lv.details?sem_id_in=22W&lvnr_id_in=432125\n
CLASS:PUBLIC
DTSTART:20221109T150000Z
DTEND:20221109T174500Z
DTSTAMP:20260420T073211Z
LOCATION:SR  9 (Sowi)
END:VEVENT
BEGIN:VEVENT
UID:22W_432125_4078655@uibk.ac.at
ORGANIZER;CN="LFU:online Universität Innsbruck":MAILTO:Uni-Innsbruck-noreply@uibk.ac.at
SUMMARY:VU Wirtschaftspolitik: Methoden der Datenanalyse in der Umweltökonomie (LV 432125-0 22W)
DESCRIPTION:Lehrveranstaltung 432125 22W, Gruppe 0\nTitel: VU Wirtschaftspolitik: Methoden der Datenanalyse in der Umweltökonomie\nOrt: SR  9 (Sowi)\n\nhttps://lfuonline.uibk.ac.at/public/lfuonline_lv.details?sem_id_in=22W&lvnr_id_in=432125\n
CLASS:PUBLIC
DTSTART:20221116T150000Z
DTEND:20221116T174500Z
DTSTAMP:20260420T073211Z
LOCATION:SR  9 (Sowi)
END:VEVENT
BEGIN:VEVENT
UID:22W_432125_4078656@uibk.ac.at
ORGANIZER;CN="LFU:online Universität Innsbruck":MAILTO:Uni-Innsbruck-noreply@uibk.ac.at
SUMMARY:VU Wirtschaftspolitik: Methoden der Datenanalyse in der Umweltökonomie (LV 432125-0 22W)
DESCRIPTION:Lehrveranstaltung 432125 22W, Gruppe 0\nTitel: VU Wirtschaftspolitik: Methoden der Datenanalyse in der Umweltökonomie\nOrt: SR  9 (Sowi)\n\nhttps://lfuonline.uibk.ac.at/public/lfuonline_lv.details?sem_id_in=22W&lvnr_id_in=432125\n
CLASS:PUBLIC
DTSTART:20221123T150000Z
DTEND:20221123T174500Z
DTSTAMP:20260420T073211Z
LOCATION:SR  9 (Sowi)
END:VEVENT
BEGIN:VEVENT
UID:22W_432125_4078657@uibk.ac.at
ORGANIZER;CN="LFU:online Universität Innsbruck":MAILTO:Uni-Innsbruck-noreply@uibk.ac.at
SUMMARY:VU Wirtschaftspolitik: Methoden der Datenanalyse in der Umweltökonomie (LV 432125-0 22W)
DESCRIPTION:Lehrveranstaltung 432125 22W, Gruppe 0\nTitel: VU Wirtschaftspolitik: Methoden der Datenanalyse in der Umweltökonomie\nOrt: SR  9 (Sowi)\n\nhttps://lfuonline.uibk.ac.at/public/lfuonline_lv.details?sem_id_in=22W&lvnr_id_in=432125\n
CLASS:PUBLIC
DTSTART:20221130T150000Z
DTEND:20221130T174500Z
DTSTAMP:20260420T073211Z
LOCATION:SR  9 (Sowi)
END:VEVENT
BEGIN:VEVENT
UID:22W_432125_4078658@uibk.ac.at
ORGANIZER;CN="LFU:online Universität Innsbruck":MAILTO:Uni-Innsbruck-noreply@uibk.ac.at
SUMMARY:VU Wirtschaftspolitik: Methoden der Datenanalyse in der Umweltökonomie (LV 432125-0 22W)
DESCRIPTION:Lehrveranstaltung 432125 22W, Gruppe 0\nTitel: VU Wirtschaftspolitik: Methoden der Datenanalyse in der Umweltökonomie\nOrt: SR  9 (Sowi)\n\nhttps://lfuonline.uibk.ac.at/public/lfuonline_lv.details?sem_id_in=22W&lvnr_id_in=432125\n
CLASS:PUBLIC
DTSTART:20221207T150000Z
DTEND:20221207T174500Z
DTSTAMP:20260420T073211Z
LOCATION:SR  9 (Sowi)
END:VEVENT
BEGIN:VEVENT
UID:22W_432125_4078659@uibk.ac.at
ORGANIZER;CN="LFU:online Universität Innsbruck":MAILTO:Uni-Innsbruck-noreply@uibk.ac.at
SUMMARY:VU Wirtschaftspolitik: Methoden der Datenanalyse in der Umweltökonomie (LV 432125-0 22W)
DESCRIPTION:Lehrveranstaltung 432125 22W, Gruppe 0\nTitel: VU Wirtschaftspolitik: Methoden der Datenanalyse in der Umweltökonomie\nOrt: SR  9 (Sowi)\n\nhttps://lfuonline.uibk.ac.at/public/lfuonline_lv.details?sem_id_in=22W&lvnr_id_in=432125\n
CLASS:PUBLIC
DTSTART:20221214T150000Z
DTEND:20221214T174500Z
DTSTAMP:20260420T073211Z
LOCATION:SR  9 (Sowi)
END:VEVENT
BEGIN:VEVENT
UID:22W_432125_4078660@uibk.ac.at
ORGANIZER;CN="LFU:online Universität Innsbruck":MAILTO:Uni-Innsbruck-noreply@uibk.ac.at
SUMMARY:VU Wirtschaftspolitik: Methoden der Datenanalyse in der Umweltökonomie (LV 432125-0 22W)
DESCRIPTION:Lehrveranstaltung 432125 22W, Gruppe 0\nTitel: VU Wirtschaftspolitik: Methoden der Datenanalyse in der Umweltökonomie\nOrt: SR  9 (Sowi)\n\nhttps://lfuonline.uibk.ac.at/public/lfuonline_lv.details?sem_id_in=22W&lvnr_id_in=432125\n
CLASS:PUBLIC
DTSTART:20230111T150000Z
DTEND:20230111T174500Z
DTSTAMP:20260420T073211Z
LOCATION:SR  9 (Sowi)
END:VEVENT
BEGIN:VEVENT
UID:22W_432125_4078661@uibk.ac.at
ORGANIZER;CN="LFU:online Universität Innsbruck":MAILTO:Uni-Innsbruck-noreply@uibk.ac.at
SUMMARY:VU Wirtschaftspolitik: Methoden der Datenanalyse in der Umweltökonomie (LV 432125-0 22W)
DESCRIPTION:Lehrveranstaltung 432125 22W, Gruppe 0\nTitel: VU Wirtschaftspolitik: Methoden der Datenanalyse in der Umweltökonomie\nOrt: SR  9 (Sowi)\n\nhttps://lfuonline.uibk.ac.at/public/lfuonline_lv.details?sem_id_in=22W&lvnr_id_in=432125\n
CLASS:PUBLIC
DTSTART:20230118T150000Z
DTEND:20230118T174500Z
DTSTAMP:20260420T073211Z
LOCATION:SR  9 (Sowi)
END:VEVENT
BEGIN:VEVENT
UID:22W_432125_4078662@uibk.ac.at
ORGANIZER;CN="LFU:online Universität Innsbruck":MAILTO:Uni-Innsbruck-noreply@uibk.ac.at
SUMMARY:VU Wirtschaftspolitik: Methoden der Datenanalyse in der Umweltökonomie (LV 432125-0 22W)
DESCRIPTION:Lehrveranstaltung 432125 22W, Gruppe 0\nTitel: VU Wirtschaftspolitik: Methoden der Datenanalyse in der Umweltökonomie\nOrt: SR  9 (Sowi)\n\nhttps://lfuonline.uibk.ac.at/public/lfuonline_lv.details?sem_id_in=22W&lvnr_id_in=432125\n
CLASS:PUBLIC
DTSTART:20230125T150000Z
DTEND:20230125T174500Z
DTSTAMP:20260420T073211Z
LOCATION:SR  9 (Sowi)
END:VEVENT
BEGIN:VEVENT
UID:22W_432125_4078663@uibk.ac.at
ORGANIZER;CN="LFU:online Universität Innsbruck":MAILTO:Uni-Innsbruck-noreply@uibk.ac.at
SUMMARY:VU Wirtschaftspolitik: Methoden der Datenanalyse in der Umweltökonomie (LV 432125-0 22W)
DESCRIPTION:Lehrveranstaltung 432125 22W, Gruppe 0\nTitel: VU Wirtschaftspolitik: Methoden der Datenanalyse in der Umweltökonomie\nOrt: SR  9 (Sowi)\n\nhttps://lfuonline.uibk.ac.at/public/lfuonline_lv.details?sem_id_in=22W&lvnr_id_in=432125\n
CLASS:PUBLIC
DTSTART:20230201T150000Z
DTEND:20230201T174500Z
DTSTAMP:20260420T073211Z
LOCATION:SR  9 (Sowi)
END:VEVENT
END:VCALENDAR