BEGIN:VCALENDAR
VERSION:2.0
PRODID:-//Universität Innsbruck//LFU:online//DE
METHOD:PUBLISH
BEGIN:VEVENT
UID:20W_433207_3635880@uibk.ac.at
ORGANIZER;CN="LFU:online Universität Innsbruck":MAILTO:Uni-Innsbruck-noreply@uibk.ac.at
SUMMARY:PS Theorien sozio-ökonomischer Erziehung reflektieren (LV 433207-0 20W)
DESCRIPTION:Lehrveranstaltung 433207 20W, Gruppe 0\nTitel: PS Theorien sozio-ökonomischer Erziehung reflektieren\nOrt: UR 3 (Sowi)\n\nhttps://lfuonline.uibk.ac.at/public/lfuonline_lv.details?sem_id_in=20W&lvnr_id_in=433207\n
CLASS:PUBLIC
DTSTART:20201019T110000Z
DTEND:20201019T144500Z
DTSTAMP:20260420T080737Z
LOCATION:UR 3 (Sowi)
COMMENT:Kaserer
END:VEVENT
BEGIN:VEVENT
UID:20W_433207_3670099@uibk.ac.at
ORGANIZER;CN="LFU:online Universität Innsbruck":MAILTO:Uni-Innsbruck-noreply@uibk.ac.at
SUMMARY:PS Theorien sozio-ökonomischer Erziehung reflektieren (LV 433207-0 20W)
DESCRIPTION:Lehrveranstaltung 433207 20W, Gruppe 0\nTitel: PS Theorien sozio-ökonomischer Erziehung reflektieren\nOrt: HS 1 (Sowi)\n\nhttps://lfuonline.uibk.ac.at/public/lfuonline_lv.details?sem_id_in=20W&lvnr_id_in=433207\n
CLASS:PUBLIC
DTSTART:20201103T120000Z
DTEND:20201103T154500Z
DTSTAMP:20260420T080737Z
LOCATION:HS 1 (Sowi)
COMMENT:Kaserer
END:VEVENT
BEGIN:VEVENT
UID:20W_433207_3627499@uibk.ac.at
ORGANIZER;CN="LFU:online Universität Innsbruck":MAILTO:Uni-Innsbruck-noreply@uibk.ac.at
SUMMARY:PS Theorien sozio-ökonomischer Erziehung reflektieren (LV 433207-0 20W)
DESCRIPTION:Lehrveranstaltung 433207 20W, Gruppe 0\nTitel: PS Theorien sozio-ökonomischer Erziehung reflektieren\nOrt: UR 3 (Sowi)\n\nhttps://lfuonline.uibk.ac.at/public/lfuonline_lv.details?sem_id_in=20W&lvnr_id_in=433207\n
CLASS:PUBLIC
DTSTART:20201116T120000Z
DTEND:20201116T154500Z
DTSTAMP:20260420T080737Z
LOCATION:UR 3 (Sowi)
COMMENT:Kaserer
END:VEVENT
BEGIN:VEVENT
UID:20W_433207_3613198@uibk.ac.at
ORGANIZER;CN="LFU:online Universität Innsbruck":MAILTO:Uni-Innsbruck-noreply@uibk.ac.at
SUMMARY:PS Theorien sozio-ökonomischer Erziehung reflektieren (LV 433207-0 20W)
DESCRIPTION:Lehrveranstaltung 433207 20W, Gruppe 0\nTitel: PS Theorien sozio-ökonomischer Erziehung reflektieren\nOrt: UR 3 (Sowi)\n\nhttps://lfuonline.uibk.ac.at/public/lfuonline_lv.details?sem_id_in=20W&lvnr_id_in=433207\n
CLASS:PUBLIC
DTSTART:20201130T120000Z
DTEND:20201130T154500Z
DTSTAMP:20260420T080737Z
LOCATION:UR 3 (Sowi)
COMMENT:Kaserer
END:VEVENT
END:VCALENDAR