BEGIN:VCALENDAR
VERSION:2.0
PRODID:-//Universität Innsbruck//LFU:online//DE
METHOD:PUBLISH
BEGIN:VEVENT
UID:25S_434626_4753321@uibk.ac.at
ORGANIZER;CN="LFU:online Universität Innsbruck":MAILTO:Uni-Innsbruck-noreply@uibk.ac.at
SUMMARY:VO Finanzberichterstattung und Controlling (LV 434626-0 25S)
DESCRIPTION:Lehrveranstaltung 434626 25S, Gruppe 0\nTitel: VO Finanzberichterstattung und Controlling\nOrt: SR 19 (Sowi)\n\nhttps://lfuonline.uibk.ac.at/public/lfuonline_lv.details?sem_id_in=25S&lvnr_id_in=434626\n
CLASS:PUBLIC
DTSTART:20250509T074500Z
DTEND:20250509T091500Z
DTSTAMP:20260423T141624Z
LOCATION:SR 19 (Sowi)
END:VEVENT
BEGIN:VEVENT
UID:25S_434626_4753322@uibk.ac.at
ORGANIZER;CN="LFU:online Universität Innsbruck":MAILTO:Uni-Innsbruck-noreply@uibk.ac.at
SUMMARY:VO Finanzberichterstattung und Controlling (LV 434626-0 25S)
DESCRIPTION:Lehrveranstaltung 434626 25S, Gruppe 0\nTitel: VO Finanzberichterstattung und Controlling\nOrt: SR 19 (Sowi)\n\nhttps://lfuonline.uibk.ac.at/public/lfuonline_lv.details?sem_id_in=25S&lvnr_id_in=434626\n
CLASS:PUBLIC
DTSTART:20250516T074500Z
DTEND:20250516T091500Z
DTSTAMP:20260423T141624Z
LOCATION:SR 19 (Sowi)
END:VEVENT
BEGIN:VEVENT
UID:25S_434626_4753323@uibk.ac.at
ORGANIZER;CN="LFU:online Universität Innsbruck":MAILTO:Uni-Innsbruck-noreply@uibk.ac.at
SUMMARY:VO Finanzberichterstattung und Controlling (LV 434626-0 25S)
DESCRIPTION:Lehrveranstaltung 434626 25S, Gruppe 0\nTitel: VO Finanzberichterstattung und Controlling\nOrt: SR 19 (Sowi)\n\nhttps://lfuonline.uibk.ac.at/public/lfuonline_lv.details?sem_id_in=25S&lvnr_id_in=434626\n
CLASS:PUBLIC
DTSTART:20250523T074500Z
DTEND:20250523T091500Z
DTSTAMP:20260423T141624Z
LOCATION:SR 19 (Sowi)
END:VEVENT
BEGIN:VEVENT
UID:25S_434626_4753325@uibk.ac.at
ORGANIZER;CN="LFU:online Universität Innsbruck":MAILTO:Uni-Innsbruck-noreply@uibk.ac.at
SUMMARY:VO Finanzberichterstattung und Controlling (LV 434626-0 25S)
DESCRIPTION:Lehrveranstaltung 434626 25S, Gruppe 0\nTitel: VO Finanzberichterstattung und Controlling\nOrt: SR 19 (Sowi)\n\nhttps://lfuonline.uibk.ac.at/public/lfuonline_lv.details?sem_id_in=25S&lvnr_id_in=434626\n
CLASS:PUBLIC
DTSTART:20250606T074500Z
DTEND:20250606T091500Z
DTSTAMP:20260423T141624Z
LOCATION:SR 19 (Sowi)
END:VEVENT
BEGIN:VEVENT
UID:25S_434626_4753326@uibk.ac.at
ORGANIZER;CN="LFU:online Universität Innsbruck":MAILTO:Uni-Innsbruck-noreply@uibk.ac.at
SUMMARY:VO Finanzberichterstattung und Controlling (LV 434626-0 25S)
DESCRIPTION:Lehrveranstaltung 434626 25S, Gruppe 0\nTitel: VO Finanzberichterstattung und Controlling\nOrt: SR 19 (Sowi)\n\nhttps://lfuonline.uibk.ac.at/public/lfuonline_lv.details?sem_id_in=25S&lvnr_id_in=434626\n
CLASS:PUBLIC
DTSTART:20250613T074500Z
DTEND:20250613T091500Z
DTSTAMP:20260423T141624Z
LOCATION:SR 19 (Sowi)
END:VEVENT
BEGIN:VEVENT
UID:25S_434626_4753327@uibk.ac.at
ORGANIZER;CN="LFU:online Universität Innsbruck":MAILTO:Uni-Innsbruck-noreply@uibk.ac.at
SUMMARY:VO Finanzberichterstattung und Controlling (LV 434626-0 25S)
DESCRIPTION:Lehrveranstaltung 434626 25S, Gruppe 0\nTitel: VO Finanzberichterstattung und Controlling\nOrt: SR 19 (Sowi)\n\nhttps://lfuonline.uibk.ac.at/public/lfuonline_lv.details?sem_id_in=25S&lvnr_id_in=434626\n
CLASS:PUBLIC
DTSTART:20250620T074500Z
DTEND:20250620T091500Z
DTSTAMP:20260423T141624Z
LOCATION:SR 19 (Sowi)
END:VEVENT
BEGIN:VEVENT
UID:25S_434626_4753328@uibk.ac.at
ORGANIZER;CN="LFU:online Universität Innsbruck":MAILTO:Uni-Innsbruck-noreply@uibk.ac.at
SUMMARY:VO Finanzberichterstattung und Controlling (LV 434626-0 25S)
DESCRIPTION:Lehrveranstaltung 434626 25S, Gruppe 0\nTitel: VO Finanzberichterstattung und Controlling\nOrt: SR 19 (Sowi)\n\nhttps://lfuonline.uibk.ac.at/public/lfuonline_lv.details?sem_id_in=25S&lvnr_id_in=434626\n
CLASS:PUBLIC
DTSTART:20250627T074500Z
DTEND:20250627T091500Z
DTSTAMP:20260423T141624Z
LOCATION:SR 19 (Sowi)
END:VEVENT
END:VCALENDAR