BEGIN:VCALENDAR
VERSION:2.0
PRODID:-//Universität Innsbruck//LFU:online//DE
METHOD:PUBLISH
BEGIN:VEVENT
UID:25S_436043_4818144@uibk.ac.at
ORGANIZER;CN="LFU:online Universität Innsbruck":MAILTO:Uni-Innsbruck-noreply@uibk.ac.at
SUMMARY:SE Open Strategy (LV 436043-0 25S)
DESCRIPTION:Lehrveranstaltung 436043 25S, Gruppe 0\nTitel: SE Open Strategy\nOrt: HS 2 (Sowi)\n\nhttps://lfuonline.uibk.ac.at/public/lfuonline_lv.details?sem_id_in=25S&lvnr_id_in=436043\n
CLASS:PUBLIC
DTSTART:20250407T093000Z
DTEND:20250407T110000Z
DTSTAMP:20260419T130557Z
LOCATION:HS 2 (Sowi)
END:VEVENT
BEGIN:VEVENT
UID:25S_436043_4768485@uibk.ac.at
ORGANIZER;CN="LFU:online Universität Innsbruck":MAILTO:Uni-Innsbruck-noreply@uibk.ac.at
SUMMARY:SE Open Strategy (LV 436043-0 25S)
DESCRIPTION:Lehrveranstaltung 436043 25S, Gruppe 0\nTitel: SE Open Strategy\nOrt: SR 12 (Sowi)\n\nhttps://lfuonline.uibk.ac.at/public/lfuonline_lv.details?sem_id_in=25S&lvnr_id_in=436043\n
CLASS:PUBLIC
DTSTART:20250512T091500Z
DTEND:20250512T110000Z
DTSTAMP:20260419T130557Z
LOCATION:SR 12 (Sowi)
END:VEVENT
BEGIN:VEVENT
UID:25S_436043_4805661@uibk.ac.at
ORGANIZER;CN="LFU:online Universität Innsbruck":MAILTO:Uni-Innsbruck-noreply@uibk.ac.at
SUMMARY:SE Open Strategy (LV 436043-0 25S)
DESCRIPTION:Lehrveranstaltung 436043 25S, Gruppe 0\nTitel: SE Open Strategy\nOrt: UR 3 (Sowi)\n\nhttps://lfuonline.uibk.ac.at/public/lfuonline_lv.details?sem_id_in=25S&lvnr_id_in=436043\n
CLASS:PUBLIC
DTSTART:20250602T093000Z
DTEND:20250602T110000Z
DTSTAMP:20260419T130557Z
LOCATION:UR 3 (Sowi)
COMMENT:Gastvortrag
END:VEVENT
END:VCALENDAR