BEGIN:VCALENDAR
VERSION:2.0
PRODID:-//Universität Innsbruck//LFU:online//DE
METHOD:PUBLISH
BEGIN:VEVENT
UID:20W_603118_3628709@uibk.ac.at
ORGANIZER;CN="LFU:online Universität Innsbruck":MAILTO:Uni-Innsbruck-noreply@uibk.ac.at
SUMMARY:VU Körperverhältnisse und Geschlecht. Ausgewählte Beispiele: Politische Arenen der Repräsentation (LV 603118-0 20W)
DESCRIPTION:Lehrveranstaltung 603118 20W, Gruppe 0\nTitel: VU Körperverhältnisse und Geschlecht. Ausgewählte Beispiele: Politische Arenen der Repräsentation\nOrt: 4U102b\n\nhttps://lfuonline.uibk.ac.at/public/lfuonline_lv.details?sem_id_in=20W&lvnr_id_in=603118\n
CLASS:PUBLIC
DTSTART:20201015T100000Z
DTEND:20201015T130000Z
DTSTAMP:20260421T053659Z
LOCATION:4U102b
COMMENT:Präsenztermin
END:VEVENT
BEGIN:VEVENT
UID:20W_603118_3628710@uibk.ac.at
ORGANIZER;CN="LFU:online Universität Innsbruck":MAILTO:Uni-Innsbruck-noreply@uibk.ac.at
SUMMARY:VU Körperverhältnisse und Geschlecht. Ausgewählte Beispiele: Politische Arenen der Repräsentation (LV 603118-0 20W)
DESCRIPTION:Lehrveranstaltung 603118 20W, Gruppe 0\nTitel: VU Körperverhältnisse und Geschlecht. Ausgewählte Beispiele: Politische Arenen der Repräsentation\nOrt: 4U102b\n\nhttps://lfuonline.uibk.ac.at/public/lfuonline_lv.details?sem_id_in=20W&lvnr_id_in=603118\n
CLASS:PUBLIC
DTSTART:20201029T110000Z
DTEND:20201029T140000Z
DTSTAMP:20260421T053659Z
LOCATION:4U102b
COMMENT:Präsenztermin
END:VEVENT
BEGIN:VEVENT
UID:20W_603118_3628711@uibk.ac.at
ORGANIZER;CN="LFU:online Universität Innsbruck":MAILTO:Uni-Innsbruck-noreply@uibk.ac.at
SUMMARY:VU Körperverhältnisse und Geschlecht. Ausgewählte Beispiele: Politische Arenen der Repräsentation (LV 603118-0 20W)
DESCRIPTION:Lehrveranstaltung 603118 20W, Gruppe 0\nTitel: VU Körperverhältnisse und Geschlecht. Ausgewählte Beispiele: Politische Arenen der Repräsentation\nOrt: online (Erziehungswissenschaft)\n\nhttps://lfuonline.uibk.ac.at/public/lfuonline_lv.details?sem_id_in=20W&lvnr_id_in=603118\n
CLASS:PUBLIC
DTSTART:20201112T110000Z
DTEND:20201112T140000Z
DTSTAMP:20260421T053659Z
LOCATION:online (Erziehungswissenschaft)
END:VEVENT
BEGIN:VEVENT
UID:20W_603118_3628712@uibk.ac.at
ORGANIZER;CN="LFU:online Universität Innsbruck":MAILTO:Uni-Innsbruck-noreply@uibk.ac.at
SUMMARY:VU Körperverhältnisse und Geschlecht. Ausgewählte Beispiele: Politische Arenen der Repräsentation (LV 603118-0 20W)
DESCRIPTION:Lehrveranstaltung 603118 20W, Gruppe 0\nTitel: VU Körperverhältnisse und Geschlecht. Ausgewählte Beispiele: Politische Arenen der Repräsentation\nOrt: online (Erziehungswissenschaft)\n\nhttps://lfuonline.uibk.ac.at/public/lfuonline_lv.details?sem_id_in=20W&lvnr_id_in=603118\n
CLASS:PUBLIC
DTSTART:20201126T110000Z
DTEND:20201126T140000Z
DTSTAMP:20260421T053659Z
LOCATION:online (Erziehungswissenschaft)
END:VEVENT
BEGIN:VEVENT
UID:20W_603118_3628713@uibk.ac.at
ORGANIZER;CN="LFU:online Universität Innsbruck":MAILTO:Uni-Innsbruck-noreply@uibk.ac.at
SUMMARY:VU Körperverhältnisse und Geschlecht. Ausgewählte Beispiele: Politische Arenen der Repräsentation (LV 603118-0 20W)
DESCRIPTION:Lehrveranstaltung 603118 20W, Gruppe 0\nTitel: VU Körperverhältnisse und Geschlecht. Ausgewählte Beispiele: Politische Arenen der Repräsentation\nOrt: eLecture - online\n\nhttps://lfuonline.uibk.ac.at/public/lfuonline_lv.details?sem_id_in=20W&lvnr_id_in=603118\n
CLASS:PUBLIC
DTSTART:20201210T110000Z
DTEND:20201210T140000Z
DTSTAMP:20260421T053659Z
LOCATION:eLecture - online
END:VEVENT
BEGIN:VEVENT
UID:20W_603118_3628714@uibk.ac.at
ORGANIZER;CN="LFU:online Universität Innsbruck":MAILTO:Uni-Innsbruck-noreply@uibk.ac.at
SUMMARY:VU Körperverhältnisse und Geschlecht. Ausgewählte Beispiele: Politische Arenen der Repräsentation (LV 603118-0 20W)
DESCRIPTION:Lehrveranstaltung 603118 20W, Gruppe 0\nTitel: VU Körperverhältnisse und Geschlecht. Ausgewählte Beispiele: Politische Arenen der Repräsentation\nOrt: eLecture - online\n\nhttps://lfuonline.uibk.ac.at/public/lfuonline_lv.details?sem_id_in=20W&lvnr_id_in=603118\n
CLASS:PUBLIC
DTSTART:20210107T110000Z
DTEND:20210107T140000Z
DTSTAMP:20260421T053659Z
LOCATION:eLecture - online
END:VEVENT
BEGIN:VEVENT
UID:20W_603118_3628715@uibk.ac.at
ORGANIZER;CN="LFU:online Universität Innsbruck":MAILTO:Uni-Innsbruck-noreply@uibk.ac.at
SUMMARY:VU Körperverhältnisse und Geschlecht. Ausgewählte Beispiele: Politische Arenen der Repräsentation (LV 603118-0 20W)
DESCRIPTION:Lehrveranstaltung 603118 20W, Gruppe 0\nTitel: VU Körperverhältnisse und Geschlecht. Ausgewählte Beispiele: Politische Arenen der Repräsentation\nOrt: eLecture - online\n\nhttps://lfuonline.uibk.ac.at/public/lfuonline_lv.details?sem_id_in=20W&lvnr_id_in=603118\n
CLASS:PUBLIC
DTSTART:20210121T110000Z
DTEND:20210121T140000Z
DTSTAMP:20260421T053659Z
LOCATION:eLecture - online
END:VEVENT
END:VCALENDAR