BEGIN:VCALENDAR
VERSION:2.0
PRODID:-//Universität Innsbruck//LFU:online//DE
METHOD:PUBLISH
BEGIN:VEVENT
UID:22W_608209_4149952@uibk.ac.at
ORGANIZER;CN="LFU:online Universität Innsbruck":MAILTO:Uni-Innsbruck-noreply@uibk.ac.at
SUMMARY:VO Theorie, Methodik und Systematik der Literaturwissenschaft (LV 608209-0 22W)
DESCRIPTION:Lehrveranstaltung 608209 22W, Gruppe 0\nTitel: VO Theorie, Methodik und Systematik der Literaturwissenschaft\nOrt: Hybrider Lernraum (HLR)\n\nhttps://lfuonline.uibk.ac.at/public/lfuonline_lv.details?sem_id_in=22W&lvnr_id_in=608209\n
CLASS:PUBLIC
DTSTART:20221003T100000Z
DTEND:20221003T113000Z
DTSTAMP:20260420T225048Z
LOCATION:Hybrider Lernraum (HLR)
END:VEVENT
BEGIN:VEVENT
UID:22W_608209_4149953@uibk.ac.at
ORGANIZER;CN="LFU:online Universität Innsbruck":MAILTO:Uni-Innsbruck-noreply@uibk.ac.at
SUMMARY:VO Theorie, Methodik und Systematik der Literaturwissenschaft (LV 608209-0 22W)
DESCRIPTION:Lehrveranstaltung 608209 22W, Gruppe 0\nTitel: VO Theorie, Methodik und Systematik der Literaturwissenschaft\nOrt: Hybrider Lernraum (HLR)\n\nhttps://lfuonline.uibk.ac.at/public/lfuonline_lv.details?sem_id_in=22W&lvnr_id_in=608209\n
CLASS:PUBLIC
DTSTART:20221010T100000Z
DTEND:20221010T113000Z
DTSTAMP:20260420T225048Z
LOCATION:Hybrider Lernraum (HLR)
END:VEVENT
BEGIN:VEVENT
UID:22W_608209_4149954@uibk.ac.at
ORGANIZER;CN="LFU:online Universität Innsbruck":MAILTO:Uni-Innsbruck-noreply@uibk.ac.at
SUMMARY:VO Theorie, Methodik und Systematik der Literaturwissenschaft (LV 608209-0 22W)
DESCRIPTION:Lehrveranstaltung 608209 22W, Gruppe 0\nTitel: VO Theorie, Methodik und Systematik der Literaturwissenschaft\nOrt: Hybrider Lernraum (HLR)\n\nhttps://lfuonline.uibk.ac.at/public/lfuonline_lv.details?sem_id_in=22W&lvnr_id_in=608209\n
CLASS:PUBLIC
DTSTART:20221017T100000Z
DTEND:20221017T113000Z
DTSTAMP:20260420T225048Z
LOCATION:Hybrider Lernraum (HLR)
END:VEVENT
BEGIN:VEVENT
UID:22W_608209_4149955@uibk.ac.at
ORGANIZER;CN="LFU:online Universität Innsbruck":MAILTO:Uni-Innsbruck-noreply@uibk.ac.at
SUMMARY:VO Theorie, Methodik und Systematik der Literaturwissenschaft (LV 608209-0 22W)
DESCRIPTION:Lehrveranstaltung 608209 22W, Gruppe 0\nTitel: VO Theorie, Methodik und Systematik der Literaturwissenschaft\nOrt: Hybrider Lernraum (HLR)\n\nhttps://lfuonline.uibk.ac.at/public/lfuonline_lv.details?sem_id_in=22W&lvnr_id_in=608209\n
CLASS:PUBLIC
DTSTART:20221024T100000Z
DTEND:20221024T113000Z
DTSTAMP:20260420T225048Z
LOCATION:Hybrider Lernraum (HLR)
END:VEVENT
BEGIN:VEVENT
UID:22W_608209_4149956@uibk.ac.at
ORGANIZER;CN="LFU:online Universität Innsbruck":MAILTO:Uni-Innsbruck-noreply@uibk.ac.at
SUMMARY:VO Theorie, Methodik und Systematik der Literaturwissenschaft (LV 608209-0 22W)
DESCRIPTION:Lehrveranstaltung 608209 22W, Gruppe 0\nTitel: VO Theorie, Methodik und Systematik der Literaturwissenschaft\nOrt: Hybrider Lernraum (HLR)\n\nhttps://lfuonline.uibk.ac.at/public/lfuonline_lv.details?sem_id_in=22W&lvnr_id_in=608209\n
CLASS:PUBLIC
DTSTART:20221031T110000Z
DTEND:20221031T123000Z
DTSTAMP:20260420T225048Z
LOCATION:Hybrider Lernraum (HLR)
END:VEVENT
BEGIN:VEVENT
UID:22W_608209_4149957@uibk.ac.at
ORGANIZER;CN="LFU:online Universität Innsbruck":MAILTO:Uni-Innsbruck-noreply@uibk.ac.at
SUMMARY:VO Theorie, Methodik und Systematik der Literaturwissenschaft (LV 608209-0 22W)
DESCRIPTION:Lehrveranstaltung 608209 22W, Gruppe 0\nTitel: VO Theorie, Methodik und Systematik der Literaturwissenschaft\nOrt: Hybrider Lernraum (HLR)\n\nhttps://lfuonline.uibk.ac.at/public/lfuonline_lv.details?sem_id_in=22W&lvnr_id_in=608209\n
CLASS:PUBLIC
DTSTART:20221107T110000Z
DTEND:20221107T123000Z
DTSTAMP:20260420T225048Z
LOCATION:Hybrider Lernraum (HLR)
END:VEVENT
BEGIN:VEVENT
UID:22W_608209_4149958@uibk.ac.at
ORGANIZER;CN="LFU:online Universität Innsbruck":MAILTO:Uni-Innsbruck-noreply@uibk.ac.at
SUMMARY:VO Theorie, Methodik und Systematik der Literaturwissenschaft (LV 608209-0 22W)
DESCRIPTION:Lehrveranstaltung 608209 22W, Gruppe 0\nTitel: VO Theorie, Methodik und Systematik der Literaturwissenschaft\nOrt: Hybrider Lernraum (HLR)\n\nhttps://lfuonline.uibk.ac.at/public/lfuonline_lv.details?sem_id_in=22W&lvnr_id_in=608209\n
CLASS:PUBLIC
DTSTART:20221114T110000Z
DTEND:20221114T123000Z
DTSTAMP:20260420T225048Z
LOCATION:Hybrider Lernraum (HLR)
END:VEVENT
BEGIN:VEVENT
UID:22W_608209_4149959@uibk.ac.at
ORGANIZER;CN="LFU:online Universität Innsbruck":MAILTO:Uni-Innsbruck-noreply@uibk.ac.at
SUMMARY:VO Theorie, Methodik und Systematik der Literaturwissenschaft (LV 608209-0 22W)
DESCRIPTION:Lehrveranstaltung 608209 22W, Gruppe 0\nTitel: VO Theorie, Methodik und Systematik der Literaturwissenschaft\nOrt: Hybrider Lernraum (HLR)\n\nhttps://lfuonline.uibk.ac.at/public/lfuonline_lv.details?sem_id_in=22W&lvnr_id_in=608209\n
CLASS:PUBLIC
DTSTART:20221121T110000Z
DTEND:20221121T123000Z
DTSTAMP:20260420T225048Z
LOCATION:Hybrider Lernraum (HLR)
END:VEVENT
BEGIN:VEVENT
UID:22W_608209_4149960@uibk.ac.at
ORGANIZER;CN="LFU:online Universität Innsbruck":MAILTO:Uni-Innsbruck-noreply@uibk.ac.at
SUMMARY:VO Theorie, Methodik und Systematik der Literaturwissenschaft (LV 608209-0 22W)
DESCRIPTION:Lehrveranstaltung 608209 22W, Gruppe 0\nTitel: VO Theorie, Methodik und Systematik der Literaturwissenschaft\nOrt: Hybrider Lernraum (HLR)\n\nhttps://lfuonline.uibk.ac.at/public/lfuonline_lv.details?sem_id_in=22W&lvnr_id_in=608209\n
CLASS:PUBLIC
DTSTART:20221128T110000Z
DTEND:20221128T123000Z
DTSTAMP:20260420T225048Z
LOCATION:Hybrider Lernraum (HLR)
END:VEVENT
BEGIN:VEVENT
UID:22W_608209_4149961@uibk.ac.at
ORGANIZER;CN="LFU:online Universität Innsbruck":MAILTO:Uni-Innsbruck-noreply@uibk.ac.at
SUMMARY:VO Theorie, Methodik und Systematik der Literaturwissenschaft (LV 608209-0 22W)
DESCRIPTION:Lehrveranstaltung 608209 22W, Gruppe 0\nTitel: VO Theorie, Methodik und Systematik der Literaturwissenschaft\nOrt: Hybrider Lernraum (HLR)\n\nhttps://lfuonline.uibk.ac.at/public/lfuonline_lv.details?sem_id_in=22W&lvnr_id_in=608209\n
CLASS:PUBLIC
DTSTART:20221205T110000Z
DTEND:20221205T123000Z
DTSTAMP:20260420T225048Z
LOCATION:Hybrider Lernraum (HLR)
END:VEVENT
BEGIN:VEVENT
UID:22W_608209_4149962@uibk.ac.at
ORGANIZER;CN="LFU:online Universität Innsbruck":MAILTO:Uni-Innsbruck-noreply@uibk.ac.at
SUMMARY:VO Theorie, Methodik und Systematik der Literaturwissenschaft (LV 608209-0 22W)
DESCRIPTION:Lehrveranstaltung 608209 22W, Gruppe 0\nTitel: VO Theorie, Methodik und Systematik der Literaturwissenschaft\nOrt: Hybrider Lernraum (HLR)\n\nhttps://lfuonline.uibk.ac.at/public/lfuonline_lv.details?sem_id_in=22W&lvnr_id_in=608209\n
CLASS:PUBLIC
DTSTART:20221212T110000Z
DTEND:20221212T123000Z
DTSTAMP:20260420T225048Z
LOCATION:Hybrider Lernraum (HLR)
END:VEVENT
BEGIN:VEVENT
UID:22W_608209_4149963@uibk.ac.at
ORGANIZER;CN="LFU:online Universität Innsbruck":MAILTO:Uni-Innsbruck-noreply@uibk.ac.at
SUMMARY:VO Theorie, Methodik und Systematik der Literaturwissenschaft (LV 608209-0 22W)
DESCRIPTION:Lehrveranstaltung 608209 22W, Gruppe 0\nTitel: VO Theorie, Methodik und Systematik der Literaturwissenschaft\nOrt: Hybrider Lernraum (HLR)\n\nhttps://lfuonline.uibk.ac.at/public/lfuonline_lv.details?sem_id_in=22W&lvnr_id_in=608209\n
CLASS:PUBLIC
DTSTART:20230109T110000Z
DTEND:20230109T123000Z
DTSTAMP:20260420T225048Z
LOCATION:Hybrider Lernraum (HLR)
END:VEVENT
BEGIN:VEVENT
UID:22W_608209_4149964@uibk.ac.at
ORGANIZER;CN="LFU:online Universität Innsbruck":MAILTO:Uni-Innsbruck-noreply@uibk.ac.at
SUMMARY:VO Theorie, Methodik und Systematik der Literaturwissenschaft (LV 608209-0 22W)
DESCRIPTION:Lehrveranstaltung 608209 22W, Gruppe 0\nTitel: VO Theorie, Methodik und Systematik der Literaturwissenschaft\nOrt: Hybrider Lernraum (HLR)\n\nhttps://lfuonline.uibk.ac.at/public/lfuonline_lv.details?sem_id_in=22W&lvnr_id_in=608209\n
CLASS:PUBLIC
DTSTART:20230116T110000Z
DTEND:20230116T123000Z
DTSTAMP:20260420T225048Z
LOCATION:Hybrider Lernraum (HLR)
END:VEVENT
BEGIN:VEVENT
UID:22W_608209_4149965@uibk.ac.at
ORGANIZER;CN="LFU:online Universität Innsbruck":MAILTO:Uni-Innsbruck-noreply@uibk.ac.at
SUMMARY:VO Theorie, Methodik und Systematik der Literaturwissenschaft (LV 608209-0 22W)
DESCRIPTION:Lehrveranstaltung 608209 22W, Gruppe 0\nTitel: VO Theorie, Methodik und Systematik der Literaturwissenschaft\nOrt: Hybrider Lernraum (HLR)\n\nhttps://lfuonline.uibk.ac.at/public/lfuonline_lv.details?sem_id_in=22W&lvnr_id_in=608209\n
CLASS:PUBLIC
DTSTART:20230123T110000Z
DTEND:20230123T123000Z
DTSTAMP:20260420T225048Z
LOCATION:Hybrider Lernraum (HLR)
END:VEVENT
BEGIN:VEVENT
UID:22W_608209_4149966@uibk.ac.at
ORGANIZER;CN="LFU:online Universität Innsbruck":MAILTO:Uni-Innsbruck-noreply@uibk.ac.at
SUMMARY:VO Theorie, Methodik und Systematik der Literaturwissenschaft (LV 608209-0 22W)
DESCRIPTION:Lehrveranstaltung 608209 22W, Gruppe 0\nTitel: VO Theorie, Methodik und Systematik der Literaturwissenschaft\nOrt: online (Germanistik)\n\nhttps://lfuonline.uibk.ac.at/public/lfuonline_lv.details?sem_id_in=22W&lvnr_id_in=608209\n
CLASS:PUBLIC
DTSTART:20230130T110000Z
DTEND:20230130T123000Z
DTSTAMP:20260420T225048Z
LOCATION:online (Germanistik)
COMMENT:1. Prüfungstermin 
END:VEVENT
BEGIN:VEVENT
UID:22W_608209_4268177@uibk.ac.at
ORGANIZER;CN="LFU:online Universität Innsbruck":MAILTO:Uni-Innsbruck-noreply@uibk.ac.at
SUMMARY:VO Theorie, Methodik und Systematik der Literaturwissenschaft (LV 608209-0 22W)
DESCRIPTION:Lehrveranstaltung 608209 22W, Gruppe 0\nTitel: VO Theorie, Methodik und Systematik der Literaturwissenschaft\nOrt: 40620 SR\n\nhttps://lfuonline.uibk.ac.at/public/lfuonline_lv.details?sem_id_in=22W&lvnr_id_in=608209\n
CLASS:PUBLIC
DTSTART:20230309T091500Z
DTEND:20230309T104500Z
DTSTAMP:20260420T225048Z
LOCATION:40620 SR
COMMENT:2. Prüfungstermin
END:VEVENT
END:VCALENDAR