BEGIN:VCALENDAR
VERSION:2.0
PRODID:-//Universität Innsbruck//LFU:online//DE
METHOD:PUBLISH
BEGIN:VEVENT
UID:19W_611040_3442363@uibk.ac.at
ORGANIZER;CN="LFU:online Universität Innsbruck":MAILTO:Uni-Innsbruck-noreply@uibk.ac.at
SUMMARY:VO Einführung in die Medienwissenschaft (LV 611040-0 19W)
DESCRIPTION:Lehrveranstaltung 611040 19W, Gruppe 0\nTitel: VO Einführung in die Medienwissenschaft\nOrt: Hybrider Lernraum (HLR)\n\nhttps://lfuonline.uibk.ac.at/public/lfuonline_lv.details?sem_id_in=19W&lvnr_id_in=611040\n
CLASS:PUBLIC
DTSTART:20191106T110000Z
DTEND:20191106T123000Z
DTSTAMP:20260423T071915Z
LOCATION:Hybrider Lernraum (HLR)
END:VEVENT
BEGIN:VEVENT
UID:19W_611040_3442364@uibk.ac.at
ORGANIZER;CN="LFU:online Universität Innsbruck":MAILTO:Uni-Innsbruck-noreply@uibk.ac.at
SUMMARY:VO Einführung in die Medienwissenschaft (LV 611040-0 19W)
DESCRIPTION:Lehrveranstaltung 611040 19W, Gruppe 0\nTitel: VO Einführung in die Medienwissenschaft\nOrt: Hybrider Lernraum (HLR)\n\nhttps://lfuonline.uibk.ac.at/public/lfuonline_lv.details?sem_id_in=19W&lvnr_id_in=611040\n
CLASS:PUBLIC
DTSTART:20191113T110000Z
DTEND:20191113T123000Z
DTSTAMP:20260423T071915Z
LOCATION:Hybrider Lernraum (HLR)
END:VEVENT
BEGIN:VEVENT
UID:19W_611040_3442365@uibk.ac.at
ORGANIZER;CN="LFU:online Universität Innsbruck":MAILTO:Uni-Innsbruck-noreply@uibk.ac.at
SUMMARY:VO Einführung in die Medienwissenschaft (LV 611040-0 19W)
DESCRIPTION:Lehrveranstaltung 611040 19W, Gruppe 0\nTitel: VO Einführung in die Medienwissenschaft\nOrt: Hybrider Lernraum (HLR)\n\nhttps://lfuonline.uibk.ac.at/public/lfuonline_lv.details?sem_id_in=19W&lvnr_id_in=611040\n
CLASS:PUBLIC
DTSTART:20191120T110000Z
DTEND:20191120T123000Z
DTSTAMP:20260423T071915Z
LOCATION:Hybrider Lernraum (HLR)
END:VEVENT
BEGIN:VEVENT
UID:19W_611040_3442366@uibk.ac.at
ORGANIZER;CN="LFU:online Universität Innsbruck":MAILTO:Uni-Innsbruck-noreply@uibk.ac.at
SUMMARY:VO Einführung in die Medienwissenschaft (LV 611040-0 19W)
DESCRIPTION:Lehrveranstaltung 611040 19W, Gruppe 0\nTitel: VO Einführung in die Medienwissenschaft\nOrt: Hybrider Lernraum (HLR)\n\nhttps://lfuonline.uibk.ac.at/public/lfuonline_lv.details?sem_id_in=19W&lvnr_id_in=611040\n
CLASS:PUBLIC
DTSTART:20191127T110000Z
DTEND:20191127T123000Z
DTSTAMP:20260423T071915Z
LOCATION:Hybrider Lernraum (HLR)
END:VEVENT
BEGIN:VEVENT
UID:19W_611040_3442367@uibk.ac.at
ORGANIZER;CN="LFU:online Universität Innsbruck":MAILTO:Uni-Innsbruck-noreply@uibk.ac.at
SUMMARY:VO Einführung in die Medienwissenschaft (LV 611040-0 19W)
DESCRIPTION:Lehrveranstaltung 611040 19W, Gruppe 0\nTitel: VO Einführung in die Medienwissenschaft\nOrt: Hybrider Lernraum (HLR)\n\nhttps://lfuonline.uibk.ac.at/public/lfuonline_lv.details?sem_id_in=19W&lvnr_id_in=611040\n
CLASS:PUBLIC
DTSTART:20191204T110000Z
DTEND:20191204T123000Z
DTSTAMP:20260423T071915Z
LOCATION:Hybrider Lernraum (HLR)
END:VEVENT
BEGIN:VEVENT
UID:19W_611040_3442368@uibk.ac.at
ORGANIZER;CN="LFU:online Universität Innsbruck":MAILTO:Uni-Innsbruck-noreply@uibk.ac.at
SUMMARY:VO Einführung in die Medienwissenschaft (LV 611040-0 19W)
DESCRIPTION:Lehrveranstaltung 611040 19W, Gruppe 0\nTitel: VO Einführung in die Medienwissenschaft\nOrt: Hybrider Lernraum (HLR)\n\nhttps://lfuonline.uibk.ac.at/public/lfuonline_lv.details?sem_id_in=19W&lvnr_id_in=611040\n
CLASS:PUBLIC
DTSTART:20191211T110000Z
DTEND:20191211T123000Z
DTSTAMP:20260423T071915Z
LOCATION:Hybrider Lernraum (HLR)
COMMENT:1. Prüfungstermin
END:VEVENT
BEGIN:VEVENT
UID:19W_611040_3442370@uibk.ac.at
ORGANIZER;CN="LFU:online Universität Innsbruck":MAILTO:Uni-Innsbruck-noreply@uibk.ac.at
SUMMARY:VO Einführung in die Medienwissenschaft (LV 611040-0 19W)
DESCRIPTION:Lehrveranstaltung 611040 19W, Gruppe 0\nTitel: VO Einführung in die Medienwissenschaft\nOrt: Hybrider Lernraum (HLR)\n\nhttps://lfuonline.uibk.ac.at/public/lfuonline_lv.details?sem_id_in=19W&lvnr_id_in=611040\n
CLASS:PUBLIC
DTSTART:20200115T110000Z
DTEND:20200115T123000Z
DTSTAMP:20260423T071915Z
LOCATION:Hybrider Lernraum (HLR)
COMMENT:2. Prüfungstermin
END:VEVENT
BEGIN:VEVENT
UID:19W_611040_3574983@uibk.ac.at
ORGANIZER;CN="LFU:online Universität Innsbruck":MAILTO:Uni-Innsbruck-noreply@uibk.ac.at
SUMMARY:VO Einführung in die Medienwissenschaft (LV 611040-0 19W)
DESCRIPTION:Lehrveranstaltung 611040 19W, Gruppe 0\nTitel: VO Einführung in die Medienwissenschaft\nOrt: Hybrider Lernraum (HLR)\n\nhttps://lfuonline.uibk.ac.at/public/lfuonline_lv.details?sem_id_in=19W&lvnr_id_in=611040\n
CLASS:PUBLIC
DTSTART:20200305T110000Z
DTEND:20200305T123000Z
DTSTAMP:20260423T071915Z
LOCATION:Hybrider Lernraum (HLR)
COMMENT:3. Prüfungstermin
END:VEVENT
BEGIN:VEVENT
UID:19W_611040_3591006@uibk.ac.at
ORGANIZER;CN="LFU:online Universität Innsbruck":MAILTO:Uni-Innsbruck-noreply@uibk.ac.at
SUMMARY:VO Einführung in die Medienwissenschaft (LV 611040-0 19W)
DESCRIPTION:Lehrveranstaltung 611040 19W, Gruppe 0\nTitel: VO Einführung in die Medienwissenschaft\nOrt: 40112\n\nhttps://lfuonline.uibk.ac.at/public/lfuonline_lv.details?sem_id_in=19W&lvnr_id_in=611040\n
CLASS:PUBLIC
DTSTART:20200312T143000Z
DTEND:20200312T153000Z
DTSTAMP:20260423T071915Z
LOCATION:40112
COMMENT:Klausurtermin
END:VEVENT
END:VCALENDAR