BEGIN:VCALENDAR
VERSION:2.0
PRODID:-//Universität Innsbruck//LFU:online//DE
METHOD:PUBLISH
BEGIN:VEVENT
UID:20S_645305_3503473@uibk.ac.at
ORGANIZER;CN="LFU:online Universität Innsbruck":MAILTO:Uni-Innsbruck-noreply@uibk.ac.at
SUMMARY:VO Basiswissen Wirtschafts- und Sozialgeschichte (LV 645305-0 20S)
DESCRIPTION:Lehrveranstaltung 645305 20S, Gruppe 0\nTitel: VO Basiswissen Wirtschafts- und Sozialgeschichte\nOrt: Hörsaal 5\n\nhttps://lfuonline.uibk.ac.at/public/lfuonline_lv.details?sem_id_in=20S&lvnr_id_in=645305\n
CLASS:PUBLIC
DTSTART:20200305T073000Z
DTEND:20200305T090000Z
DTSTAMP:20260422T004440Z
LOCATION:Hörsaal 5
END:VEVENT
BEGIN:VEVENT
UID:20S_645305_3503474@uibk.ac.at
ORGANIZER;CN="LFU:online Universität Innsbruck":MAILTO:Uni-Innsbruck-noreply@uibk.ac.at
SUMMARY:VO Basiswissen Wirtschafts- und Sozialgeschichte (LV 645305-0 20S)
DESCRIPTION:Lehrveranstaltung 645305 20S, Gruppe 0\nTitel: VO Basiswissen Wirtschafts- und Sozialgeschichte\nOrt: Hörsaal 5\n\nhttps://lfuonline.uibk.ac.at/public/lfuonline_lv.details?sem_id_in=20S&lvnr_id_in=645305\n
CLASS:PUBLIC
DTSTART:20200312T073000Z
DTEND:20200312T090000Z
DTSTAMP:20260422T004440Z
LOCATION:Hörsaal 5
END:VEVENT
BEGIN:VEVENT
UID:20S_645305_3503497@uibk.ac.at
ORGANIZER;CN="LFU:online Universität Innsbruck":MAILTO:Uni-Innsbruck-noreply@uibk.ac.at
SUMMARY:VO Basiswissen Wirtschafts- und Sozialgeschichte (LV 645305-0 20S)
DESCRIPTION:Lehrveranstaltung 645305 20S, Gruppe 0\nTitel: VO Basiswissen Wirtschafts- und Sozialgeschichte\nOrt: Hörsaal 5\n\nhttps://lfuonline.uibk.ac.at/public/lfuonline_lv.details?sem_id_in=20S&lvnr_id_in=645305\n
CLASS:PUBLIC
DTSTART:20200317T124500Z
DTEND:20200317T141500Z
DTSTAMP:20260422T004440Z
LOCATION:Hörsaal 5
END:VEVENT
BEGIN:VEVENT
UID:20S_645305_3503475@uibk.ac.at
ORGANIZER;CN="LFU:online Universität Innsbruck":MAILTO:Uni-Innsbruck-noreply@uibk.ac.at
SUMMARY:VO Basiswissen Wirtschafts- und Sozialgeschichte (LV 645305-0 20S)
DESCRIPTION:Lehrveranstaltung 645305 20S, Gruppe 0\nTitel: VO Basiswissen Wirtschafts- und Sozialgeschichte\nOrt: Hörsaal 5\n\nhttps://lfuonline.uibk.ac.at/public/lfuonline_lv.details?sem_id_in=20S&lvnr_id_in=645305\n
CLASS:PUBLIC
DTSTART:20200319T073000Z
DTEND:20200319T090000Z
DTSTAMP:20260422T004440Z
LOCATION:Hörsaal 5
END:VEVENT
BEGIN:VEVENT
UID:20S_645305_3503476@uibk.ac.at
ORGANIZER;CN="LFU:online Universität Innsbruck":MAILTO:Uni-Innsbruck-noreply@uibk.ac.at
SUMMARY:VO Basiswissen Wirtschafts- und Sozialgeschichte (LV 645305-0 20S)
DESCRIPTION:Lehrveranstaltung 645305 20S, Gruppe 0\nTitel: VO Basiswissen Wirtschafts- und Sozialgeschichte\nOrt: Hörsaal 5\n\nhttps://lfuonline.uibk.ac.at/public/lfuonline_lv.details?sem_id_in=20S&lvnr_id_in=645305\n
CLASS:PUBLIC
DTSTART:20200326T073000Z
DTEND:20200326T090000Z
DTSTAMP:20260422T004440Z
LOCATION:Hörsaal 5
END:VEVENT
BEGIN:VEVENT
UID:20S_645305_3503498@uibk.ac.at
ORGANIZER;CN="LFU:online Universität Innsbruck":MAILTO:Uni-Innsbruck-noreply@uibk.ac.at
SUMMARY:VO Basiswissen Wirtschafts- und Sozialgeschichte (LV 645305-0 20S)
DESCRIPTION:Lehrveranstaltung 645305 20S, Gruppe 0\nTitel: VO Basiswissen Wirtschafts- und Sozialgeschichte\nOrt: Hörsaal 5\n\nhttps://lfuonline.uibk.ac.at/public/lfuonline_lv.details?sem_id_in=20S&lvnr_id_in=645305\n
CLASS:PUBLIC
DTSTART:20200331T114500Z
DTEND:20200331T131500Z
DTSTAMP:20260422T004440Z
LOCATION:Hörsaal 5
END:VEVENT
BEGIN:VEVENT
UID:20S_645305_3503477@uibk.ac.at
ORGANIZER;CN="LFU:online Universität Innsbruck":MAILTO:Uni-Innsbruck-noreply@uibk.ac.at
SUMMARY:VO Basiswissen Wirtschafts- und Sozialgeschichte (LV 645305-0 20S)
DESCRIPTION:Lehrveranstaltung 645305 20S, Gruppe 0\nTitel: VO Basiswissen Wirtschafts- und Sozialgeschichte\nOrt: Hörsaal 5\n\nhttps://lfuonline.uibk.ac.at/public/lfuonline_lv.details?sem_id_in=20S&lvnr_id_in=645305\n
CLASS:PUBLIC
DTSTART:20200402T063000Z
DTEND:20200402T080000Z
DTSTAMP:20260422T004440Z
LOCATION:Hörsaal 5
END:VEVENT
BEGIN:VEVENT
UID:20S_645305_3503478@uibk.ac.at
ORGANIZER;CN="LFU:online Universität Innsbruck":MAILTO:Uni-Innsbruck-noreply@uibk.ac.at
SUMMARY:VO Basiswissen Wirtschafts- und Sozialgeschichte (LV 645305-0 20S)
DESCRIPTION:Lehrveranstaltung 645305 20S, Gruppe 0\nTitel: VO Basiswissen Wirtschafts- und Sozialgeschichte\nOrt: Hörsaal 5\n\nhttps://lfuonline.uibk.ac.at/public/lfuonline_lv.details?sem_id_in=20S&lvnr_id_in=645305\n
CLASS:PUBLIC
DTSTART:20200423T063000Z
DTEND:20200423T080000Z
DTSTAMP:20260422T004440Z
LOCATION:Hörsaal 5
END:VEVENT
BEGIN:VEVENT
UID:20S_645305_3503499@uibk.ac.at
ORGANIZER;CN="LFU:online Universität Innsbruck":MAILTO:Uni-Innsbruck-noreply@uibk.ac.at
SUMMARY:VO Basiswissen Wirtschafts- und Sozialgeschichte (LV 645305-0 20S)
DESCRIPTION:Lehrveranstaltung 645305 20S, Gruppe 0\nTitel: VO Basiswissen Wirtschafts- und Sozialgeschichte\nOrt: Hörsaal 5\n\nhttps://lfuonline.uibk.ac.at/public/lfuonline_lv.details?sem_id_in=20S&lvnr_id_in=645305\n
CLASS:PUBLIC
DTSTART:20200428T114500Z
DTEND:20200428T131500Z
DTSTAMP:20260422T004440Z
LOCATION:Hörsaal 5
END:VEVENT
BEGIN:VEVENT
UID:20S_645305_3503479@uibk.ac.at
ORGANIZER;CN="LFU:online Universität Innsbruck":MAILTO:Uni-Innsbruck-noreply@uibk.ac.at
SUMMARY:VO Basiswissen Wirtschafts- und Sozialgeschichte (LV 645305-0 20S)
DESCRIPTION:Lehrveranstaltung 645305 20S, Gruppe 0\nTitel: VO Basiswissen Wirtschafts- und Sozialgeschichte\nOrt: Hörsaal 5\n\nhttps://lfuonline.uibk.ac.at/public/lfuonline_lv.details?sem_id_in=20S&lvnr_id_in=645305\n
CLASS:PUBLIC
DTSTART:20200430T063000Z
DTEND:20200430T080000Z
DTSTAMP:20260422T004440Z
LOCATION:Hörsaal 5
END:VEVENT
BEGIN:VEVENT
UID:20S_645305_3503480@uibk.ac.at
ORGANIZER;CN="LFU:online Universität Innsbruck":MAILTO:Uni-Innsbruck-noreply@uibk.ac.at
SUMMARY:VO Basiswissen Wirtschafts- und Sozialgeschichte (LV 645305-0 20S)
DESCRIPTION:Lehrveranstaltung 645305 20S, Gruppe 0\nTitel: VO Basiswissen Wirtschafts- und Sozialgeschichte\nOrt: Hörsaal 5\n\nhttps://lfuonline.uibk.ac.at/public/lfuonline_lv.details?sem_id_in=20S&lvnr_id_in=645305\n
CLASS:PUBLIC
DTSTART:20200507T063000Z
DTEND:20200507T080000Z
DTSTAMP:20260422T004440Z
LOCATION:Hörsaal 5
END:VEVENT
BEGIN:VEVENT
UID:20S_645305_3503500@uibk.ac.at
ORGANIZER;CN="LFU:online Universität Innsbruck":MAILTO:Uni-Innsbruck-noreply@uibk.ac.at
SUMMARY:VO Basiswissen Wirtschafts- und Sozialgeschichte (LV 645305-0 20S)
DESCRIPTION:Lehrveranstaltung 645305 20S, Gruppe 0\nTitel: VO Basiswissen Wirtschafts- und Sozialgeschichte\nOrt: Hörsaal 5\n\nhttps://lfuonline.uibk.ac.at/public/lfuonline_lv.details?sem_id_in=20S&lvnr_id_in=645305\n
CLASS:PUBLIC
DTSTART:20200512T114500Z
DTEND:20200512T131500Z
DTSTAMP:20260422T004440Z
LOCATION:Hörsaal 5
END:VEVENT
BEGIN:VEVENT
UID:20S_645305_3503481@uibk.ac.at
ORGANIZER;CN="LFU:online Universität Innsbruck":MAILTO:Uni-Innsbruck-noreply@uibk.ac.at
SUMMARY:VO Basiswissen Wirtschafts- und Sozialgeschichte (LV 645305-0 20S)
DESCRIPTION:Lehrveranstaltung 645305 20S, Gruppe 0\nTitel: VO Basiswissen Wirtschafts- und Sozialgeschichte\nOrt: Hörsaal 5\n\nhttps://lfuonline.uibk.ac.at/public/lfuonline_lv.details?sem_id_in=20S&lvnr_id_in=645305\n
CLASS:PUBLIC
DTSTART:20200514T063000Z
DTEND:20200514T080000Z
DTSTAMP:20260422T004440Z
LOCATION:Hörsaal 5
END:VEVENT
BEGIN:VEVENT
UID:20S_645305_3503501@uibk.ac.at
ORGANIZER;CN="LFU:online Universität Innsbruck":MAILTO:Uni-Innsbruck-noreply@uibk.ac.at
SUMMARY:VO Basiswissen Wirtschafts- und Sozialgeschichte (LV 645305-0 20S)
DESCRIPTION:Lehrveranstaltung 645305 20S, Gruppe 0\nTitel: VO Basiswissen Wirtschafts- und Sozialgeschichte\nOrt: Hörsaal 5\n\nhttps://lfuonline.uibk.ac.at/public/lfuonline_lv.details?sem_id_in=20S&lvnr_id_in=645305\n
CLASS:PUBLIC
DTSTART:20200526T114500Z
DTEND:20200526T131500Z
DTSTAMP:20260422T004440Z
LOCATION:Hörsaal 5
END:VEVENT
BEGIN:VEVENT
UID:20S_645305_3503482@uibk.ac.at
ORGANIZER;CN="LFU:online Universität Innsbruck":MAILTO:Uni-Innsbruck-noreply@uibk.ac.at
SUMMARY:VO Basiswissen Wirtschafts- und Sozialgeschichte (LV 645305-0 20S)
DESCRIPTION:Lehrveranstaltung 645305 20S, Gruppe 0\nTitel: VO Basiswissen Wirtschafts- und Sozialgeschichte\nOrt: Hörsaal 5\n\nhttps://lfuonline.uibk.ac.at/public/lfuonline_lv.details?sem_id_in=20S&lvnr_id_in=645305\n
CLASS:PUBLIC
DTSTART:20200528T063000Z
DTEND:20200528T080000Z
DTSTAMP:20260422T004440Z
LOCATION:Hörsaal 5
END:VEVENT
BEGIN:VEVENT
UID:20S_645305_3503483@uibk.ac.at
ORGANIZER;CN="LFU:online Universität Innsbruck":MAILTO:Uni-Innsbruck-noreply@uibk.ac.at
SUMMARY:VO Basiswissen Wirtschafts- und Sozialgeschichte (LV 645305-0 20S)
DESCRIPTION:Lehrveranstaltung 645305 20S, Gruppe 0\nTitel: VO Basiswissen Wirtschafts- und Sozialgeschichte\nOrt: Hörsaal 5\n\nhttps://lfuonline.uibk.ac.at/public/lfuonline_lv.details?sem_id_in=20S&lvnr_id_in=645305\n
CLASS:PUBLIC
DTSTART:20200604T063000Z
DTEND:20200604T080000Z
DTSTAMP:20260422T004440Z
LOCATION:Hörsaal 5
END:VEVENT
BEGIN:VEVENT
UID:20S_645305_3503502@uibk.ac.at
ORGANIZER;CN="LFU:online Universität Innsbruck":MAILTO:Uni-Innsbruck-noreply@uibk.ac.at
SUMMARY:ABGESAGT: VO Basiswissen Wirtschafts- und Sozialgeschichte (LV 645305-0 20S)
DESCRIPTION:Lehrveranstaltung 645305 20S, Gruppe 0\nTitel: VO Basiswissen Wirtschafts- und Sozialgeschichte\nOrt: Hörsaal 5\n\nhttps://lfuonline.uibk.ac.at/public/lfuonline_lv.details?sem_id_in=20S&lvnr_id_in=645305\n
CLASS:PUBLIC
DTSTART:20200609T114500Z
DTEND:20200609T131500Z
DTSTAMP:20260422T004440Z
LOCATION:Hörsaal 5
COMMENT:1. Prüfungstermin 
END:VEVENT
BEGIN:VEVENT
UID:20S_645305_3503485@uibk.ac.at
ORGANIZER;CN="LFU:online Universität Innsbruck":MAILTO:Uni-Innsbruck-noreply@uibk.ac.at
SUMMARY:VO Basiswissen Wirtschafts- und Sozialgeschichte (LV 645305-0 20S)
DESCRIPTION:Lehrveranstaltung 645305 20S, Gruppe 0\nTitel: VO Basiswissen Wirtschafts- und Sozialgeschichte\nOrt: Hörsaal 4\n\nhttps://lfuonline.uibk.ac.at/public/lfuonline_lv.details?sem_id_in=20S&lvnr_id_in=645305\n
CLASS:PUBLIC
DTSTART:20200625T063000Z
DTEND:20200625T080000Z
DTSTAMP:20260422T004440Z
LOCATION:Hörsaal 4
COMMENT:Präsenzprüfung\n1. Prüfungstermin
END:VEVENT
BEGIN:VEVENT
UID:20S_645305_3649743@uibk.ac.at
ORGANIZER;CN="LFU:online Universität Innsbruck":MAILTO:Uni-Innsbruck-noreply@uibk.ac.at
SUMMARY:VO Basiswissen Wirtschafts- und Sozialgeschichte (LV 645305-0 20S)
DESCRIPTION:Lehrveranstaltung 645305 20S, Gruppe 0\nTitel: VO Basiswissen Wirtschafts- und Sozialgeschichte\nOrt: Hörsaal 5¾\n\nhttps://lfuonline.uibk.ac.at/public/lfuonline_lv.details?sem_id_in=20S&lvnr_id_in=645305\n
CLASS:PUBLIC
DTSTART:20200625T081500Z
DTEND:20200625T094500Z
DTSTAMP:20260422T004440Z
LOCATION:Hörsaal 5¾
COMMENT:Präsenzprüfung 1. Prüfungstermin
END:VEVENT
BEGIN:VEVENT
UID:20S_645305_3605996@uibk.ac.at
ORGANIZER;CN="LFU:online Universität Innsbruck":MAILTO:Uni-Innsbruck-noreply@uibk.ac.at
SUMMARY:VO Basiswissen Wirtschafts- und Sozialgeschichte (LV 645305-0 20S)
DESCRIPTION:Lehrveranstaltung 645305 20S, Gruppe 0\nTitel: VO Basiswissen Wirtschafts- und Sozialgeschichte\nOrt: Hörsaal 6\n\nhttps://lfuonline.uibk.ac.at/public/lfuonline_lv.details?sem_id_in=20S&lvnr_id_in=645305\n
CLASS:PUBLIC
DTSTART:20200917T081500Z
DTEND:20200917T094500Z
DTSTAMP:20260422T004440Z
LOCATION:Hörsaal 6
COMMENT:Präsenzprüfung 2. Prüfungstermin
END:VEVENT
BEGIN:VEVENT
UID:20S_645305_3605998@uibk.ac.at
ORGANIZER;CN="LFU:online Universität Innsbruck":MAILTO:Uni-Innsbruck-noreply@uibk.ac.at
SUMMARY:VO Basiswissen Wirtschafts- und Sozialgeschichte (LV 645305-0 20S)
DESCRIPTION:Lehrveranstaltung 645305 20S, Gruppe 0\nTitel: VO Basiswissen Wirtschafts- und Sozialgeschichte\nOrt: Hörsaal 5\n\nhttps://lfuonline.uibk.ac.at/public/lfuonline_lv.details?sem_id_in=20S&lvnr_id_in=645305\n
CLASS:PUBLIC
DTSTART:20201001T063000Z
DTEND:20201001T080000Z
DTSTAMP:20260422T004440Z
LOCATION:Hörsaal 5
COMMENT:Präsenzprüfung 3. Prüfungstermin
END:VEVENT
END:VCALENDAR