BEGIN:VCALENDAR
VERSION:2.0
PRODID:-//Universität Innsbruck//LFU:online//DE
METHOD:PUBLISH
BEGIN:VEVENT
UID:22W_740940_4207200@uibk.ac.at
ORGANIZER;CN="LFU:online Universität Innsbruck":MAILTO:Uni-Innsbruck-noreply@uibk.ac.at
SUMMARY:VU CavX I: Ion channels in cellular functions (LV 740940-0 22W)
DESCRIPTION:Lehrveranstaltung 740940 22W, Gruppe 0\nTitel: VU CavX I: Ion channels in cellular functions\nOrt: L.EG.220\n\nhttps://lfuonline.uibk.ac.at/public/lfuonline_lv.details?sem_id_in=22W&lvnr_id_in=740940\n
CLASS:PUBLIC
DTSTART:20221027T093000Z
DTEND:20221027T120000Z
DTSTAMP:20260422T022217Z
LOCATION:L.EG.220
END:VEVENT
END:VCALENDAR