BEGIN:VCALENDAR
VERSION:2.0
PRODID:-//Universität Innsbruck//LFU:online//DE
METHOD:PUBLISH
BEGIN:VEVENT
UID:24W_743406_4622438@uibk.ac.at
ORGANIZER;CN="LFU:online Universität Innsbruck":MAILTO:Uni-Innsbruck-noreply@uibk.ac.at
SUMMARY:VO Landschaftsökologie (LV 743406-0 24W)
DESCRIPTION:Lehrveranstaltung 743406 24W, Gruppe 0\nTitel: VO Landschaftsökologie\nOrt: HS B (Technik)\n\nhttps://lfuonline.uibk.ac.at/public/lfuonline_lv.details?sem_id_in=24W&lvnr_id_in=743406\n
CLASS:PUBLIC
DTSTART:20241119T124500Z
DTEND:20241119T141500Z
DTSTAMP:20260420T090546Z
LOCATION:HS B (Technik)
END:VEVENT
BEGIN:VEVENT
UID:24W_743406_4622459@uibk.ac.at
ORGANIZER;CN="LFU:online Universität Innsbruck":MAILTO:Uni-Innsbruck-noreply@uibk.ac.at
SUMMARY:VO Landschaftsökologie (LV 743406-0 24W)
DESCRIPTION:Lehrveranstaltung 743406 24W, Gruppe 0\nTitel: VO Landschaftsökologie\nOrt: HS B (Technik)\n\nhttps://lfuonline.uibk.ac.at/public/lfuonline_lv.details?sem_id_in=24W&lvnr_id_in=743406\n
CLASS:PUBLIC
DTSTART:20241128T073000Z
DTEND:20241128T090000Z
DTSTAMP:20260420T090546Z
LOCATION:HS B (Technik)
END:VEVENT
BEGIN:VEVENT
UID:24W_743406_4622462@uibk.ac.at
ORGANIZER;CN="LFU:online Universität Innsbruck":MAILTO:Uni-Innsbruck-noreply@uibk.ac.at
SUMMARY:VO Landschaftsökologie (LV 743406-0 24W)
DESCRIPTION:Lehrveranstaltung 743406 24W, Gruppe 0\nTitel: VO Landschaftsökologie\nOrt: HS B (Technik)\n\nhttps://lfuonline.uibk.ac.at/public/lfuonline_lv.details?sem_id_in=24W&lvnr_id_in=743406\n
CLASS:PUBLIC
DTSTART:20241205T073000Z
DTEND:20241205T090000Z
DTSTAMP:20260420T090546Z
LOCATION:HS B (Technik)
END:VEVENT
BEGIN:VEVENT
UID:24W_743406_4622463@uibk.ac.at
ORGANIZER;CN="LFU:online Universität Innsbruck":MAILTO:Uni-Innsbruck-noreply@uibk.ac.at
SUMMARY:VO Landschaftsökologie (LV 743406-0 24W)
DESCRIPTION:Lehrveranstaltung 743406 24W, Gruppe 0\nTitel: VO Landschaftsökologie\nOrt: HS B (Technik)\n\nhttps://lfuonline.uibk.ac.at/public/lfuonline_lv.details?sem_id_in=24W&lvnr_id_in=743406\n
CLASS:PUBLIC
DTSTART:20241212T073000Z
DTEND:20241212T090000Z
DTSTAMP:20260420T090546Z
LOCATION:HS B (Technik)
END:VEVENT
BEGIN:VEVENT
UID:24W_743406_4622470@uibk.ac.at
ORGANIZER;CN="LFU:online Universität Innsbruck":MAILTO:Uni-Innsbruck-noreply@uibk.ac.at
SUMMARY:VO Landschaftsökologie (LV 743406-0 24W)
DESCRIPTION:Lehrveranstaltung 743406 24W, Gruppe 0\nTitel: VO Landschaftsökologie\nOrt: HS B (Technik)\n\nhttps://lfuonline.uibk.ac.at/public/lfuonline_lv.details?sem_id_in=24W&lvnr_id_in=743406\n
CLASS:PUBLIC
DTSTART:20250116T073000Z
DTEND:20250116T090000Z
DTSTAMP:20260420T090546Z
LOCATION:HS B (Technik)
END:VEVENT
BEGIN:VEVENT
UID:24W_743406_4622486@uibk.ac.at
ORGANIZER;CN="LFU:online Universität Innsbruck":MAILTO:Uni-Innsbruck-noreply@uibk.ac.at
SUMMARY:VO Landschaftsökologie (LV 743406-0 24W)
DESCRIPTION:Lehrveranstaltung 743406 24W, Gruppe 0\nTitel: VO Landschaftsökologie\nOrt: HS B (Technik)\n\nhttps://lfuonline.uibk.ac.at/public/lfuonline_lv.details?sem_id_in=24W&lvnr_id_in=743406\n
CLASS:PUBLIC
DTSTART:20250123T073000Z
DTEND:20250123T090000Z
DTSTAMP:20260420T090546Z
LOCATION:HS B (Technik)
END:VEVENT
BEGIN:VEVENT
UID:24W_743406_4622493@uibk.ac.at
ORGANIZER;CN="LFU:online Universität Innsbruck":MAILTO:Uni-Innsbruck-noreply@uibk.ac.at
SUMMARY:VO Landschaftsökologie (LV 743406-0 24W)
DESCRIPTION:Lehrveranstaltung 743406 24W, Gruppe 0\nTitel: VO Landschaftsökologie\nOrt: HS B (Technik)\n\nhttps://lfuonline.uibk.ac.at/public/lfuonline_lv.details?sem_id_in=24W&lvnr_id_in=743406\n
CLASS:PUBLIC
DTSTART:20250130T073000Z
DTEND:20250130T090000Z
DTSTAMP:20260420T090546Z
LOCATION:HS B (Technik)
END:VEVENT
END:VCALENDAR