BEGIN:VCALENDAR
VERSION:2.0
PRODID:-//Universität Innsbruck//LFU:online//DE
METHOD:PUBLISH
BEGIN:VEVENT
UID:19W_146413_3420151@uibk.ac.at
ORGANIZER;CN="LFU:online Universität Innsbruck":MAILTO:Uni-Innsbruck-noreply@uibk.ac.at
SUMMARY:VU Destinationsmanagement und -marketing (LV 146413-1 19W)
DESCRIPTION:Lehrveranstaltung 146413 19W, Gruppe 1\nTitel: VU Destinationsmanagement und -marketing\nOrt: UR 2 (Landeck)\n\nhttps://lfuonline.uibk.ac.at/public/lfuonline_lv.details?sem_id_in=19W&lvnr_id_in=146413\n
CLASS:PUBLIC
DTSTART:20191106T080000Z
DTEND:20191106T093000Z
DTSTAMP:20260420T130604Z
LOCATION:UR 2 (Landeck)
END:VEVENT
BEGIN:VEVENT
UID:19W_146413_3420138@uibk.ac.at
ORGANIZER;CN="LFU:online Universität Innsbruck":MAILTO:Uni-Innsbruck-noreply@uibk.ac.at
SUMMARY:VU Destinationsmanagement und -marketing (LV 146413-1 19W)
DESCRIPTION:Lehrveranstaltung 146413 19W, Gruppe 1\nTitel: VU Destinationsmanagement und -marketing\nOrt: UR 2 (Landeck)\n\nhttps://lfuonline.uibk.ac.at/public/lfuonline_lv.details?sem_id_in=19W&lvnr_id_in=146413\n
CLASS:PUBLIC
DTSTART:20191106T094500Z
DTEND:20191106T111500Z
DTSTAMP:20260420T130604Z
LOCATION:UR 2 (Landeck)
END:VEVENT
BEGIN:VEVENT
UID:19W_146413_3420152@uibk.ac.at
ORGANIZER;CN="LFU:online Universität Innsbruck":MAILTO:Uni-Innsbruck-noreply@uibk.ac.at
SUMMARY:VU Destinationsmanagement und -marketing (LV 146413-1 19W)
DESCRIPTION:Lehrveranstaltung 146413 19W, Gruppe 1\nTitel: VU Destinationsmanagement und -marketing\nOrt: UR 2 (Landeck)\n\nhttps://lfuonline.uibk.ac.at/public/lfuonline_lv.details?sem_id_in=19W&lvnr_id_in=146413\n
CLASS:PUBLIC
DTSTART:20191106T114500Z
DTEND:20191106T131500Z
DTSTAMP:20260420T130604Z
LOCATION:UR 2 (Landeck)
END:VEVENT
BEGIN:VEVENT
UID:19W_146413_3486703@uibk.ac.at
ORGANIZER;CN="LFU:online Universität Innsbruck":MAILTO:Uni-Innsbruck-noreply@uibk.ac.at
SUMMARY:VU Destinationsmanagement und -marketing (LV 146413-1 19W)
DESCRIPTION:Lehrveranstaltung 146413 19W, Gruppe 1\nTitel: VU Destinationsmanagement und -marketing\nOrt: SR 4 (Landeck)\n\nhttps://lfuonline.uibk.ac.at/public/lfuonline_lv.details?sem_id_in=19W&lvnr_id_in=146413\n
CLASS:PUBLIC
DTSTART:20191108T080000Z
DTEND:20191108T093000Z
DTSTAMP:20260420T130604Z
LOCATION:SR 4 (Landeck)
END:VEVENT
BEGIN:VEVENT
UID:19W_146413_3486714@uibk.ac.at
ORGANIZER;CN="LFU:online Universität Innsbruck":MAILTO:Uni-Innsbruck-noreply@uibk.ac.at
SUMMARY:VU Destinationsmanagement und -marketing (LV 146413-1 19W)
DESCRIPTION:Lehrveranstaltung 146413 19W, Gruppe 1\nTitel: VU Destinationsmanagement und -marketing\nOrt: SR 4 (Landeck)\n\nhttps://lfuonline.uibk.ac.at/public/lfuonline_lv.details?sem_id_in=19W&lvnr_id_in=146413\n
CLASS:PUBLIC
DTSTART:20191108T094500Z
DTEND:20191108T111500Z
DTSTAMP:20260420T130604Z
LOCATION:SR 4 (Landeck)
END:VEVENT
BEGIN:VEVENT
UID:19W_146413_3486737@uibk.ac.at
ORGANIZER;CN="LFU:online Universität Innsbruck":MAILTO:Uni-Innsbruck-noreply@uibk.ac.at
SUMMARY:VU Destinationsmanagement und -marketing (LV 146413-1 19W)
DESCRIPTION:Lehrveranstaltung 146413 19W, Gruppe 1\nTitel: VU Destinationsmanagement und -marketing\nOrt: SR 4 (Landeck)\n\nhttps://lfuonline.uibk.ac.at/public/lfuonline_lv.details?sem_id_in=19W&lvnr_id_in=146413\n
CLASS:PUBLIC
DTSTART:20191108T114500Z
DTEND:20191108T131500Z
DTSTAMP:20260420T130604Z
LOCATION:SR 4 (Landeck)
END:VEVENT
BEGIN:VEVENT
UID:19W_146413_3420139@uibk.ac.at
ORGANIZER;CN="LFU:online Universität Innsbruck":MAILTO:Uni-Innsbruck-noreply@uibk.ac.at
SUMMARY:VU Destinationsmanagement und -marketing (LV 146413-1 19W)
DESCRIPTION:Lehrveranstaltung 146413 19W, Gruppe 1\nTitel: VU Destinationsmanagement und -marketing\nOrt: UR 2 (Landeck)\n\nhttps://lfuonline.uibk.ac.at/public/lfuonline_lv.details?sem_id_in=19W&lvnr_id_in=146413\n
CLASS:PUBLIC
DTSTART:20191111T080000Z
DTEND:20191111T093000Z
DTSTAMP:20260420T130604Z
LOCATION:UR 2 (Landeck)
END:VEVENT
BEGIN:VEVENT
UID:19W_146413_3420154@uibk.ac.at
ORGANIZER;CN="LFU:online Universität Innsbruck":MAILTO:Uni-Innsbruck-noreply@uibk.ac.at
SUMMARY:VU Destinationsmanagement und -marketing (LV 146413-1 19W)
DESCRIPTION:Lehrveranstaltung 146413 19W, Gruppe 1\nTitel: VU Destinationsmanagement und -marketing\nOrt: UR 2 (Landeck)\n\nhttps://lfuonline.uibk.ac.at/public/lfuonline_lv.details?sem_id_in=19W&lvnr_id_in=146413\n
CLASS:PUBLIC
DTSTART:20191111T094500Z
DTEND:20191111T111500Z
DTSTAMP:20260420T130604Z
LOCATION:UR 2 (Landeck)
END:VEVENT
BEGIN:VEVENT
UID:19W_146413_3420155@uibk.ac.at
ORGANIZER;CN="LFU:online Universität Innsbruck":MAILTO:Uni-Innsbruck-noreply@uibk.ac.at
SUMMARY:VU Destinationsmanagement und -marketing (LV 146413-1 19W)
DESCRIPTION:Lehrveranstaltung 146413 19W, Gruppe 1\nTitel: VU Destinationsmanagement und -marketing\nOrt: UR 2 (Landeck)\n\nhttps://lfuonline.uibk.ac.at/public/lfuonline_lv.details?sem_id_in=19W&lvnr_id_in=146413\n
CLASS:PUBLIC
DTSTART:20191111T114500Z
DTEND:20191111T131500Z
DTSTAMP:20260420T130604Z
LOCATION:UR 2 (Landeck)
END:VEVENT
BEGIN:VEVENT
UID:19W_146413_3420140@uibk.ac.at
ORGANIZER;CN="LFU:online Universität Innsbruck":MAILTO:Uni-Innsbruck-noreply@uibk.ac.at
SUMMARY:VU Destinationsmanagement und -marketing (LV 146413-1 19W)
DESCRIPTION:Lehrveranstaltung 146413 19W, Gruppe 1\nTitel: VU Destinationsmanagement und -marketing\nOrt: SR 2 (Landeck)\n\nhttps://lfuonline.uibk.ac.at/public/lfuonline_lv.details?sem_id_in=19W&lvnr_id_in=146413\n
CLASS:PUBLIC
DTSTART:20191120T080000Z
DTEND:20191120T093000Z
DTSTAMP:20260420T130604Z
LOCATION:SR 2 (Landeck)
END:VEVENT
BEGIN:VEVENT
UID:19W_146413_3420156@uibk.ac.at
ORGANIZER;CN="LFU:online Universität Innsbruck":MAILTO:Uni-Innsbruck-noreply@uibk.ac.at
SUMMARY:VU Destinationsmanagement und -marketing (LV 146413-1 19W)
DESCRIPTION:Lehrveranstaltung 146413 19W, Gruppe 1\nTitel: VU Destinationsmanagement und -marketing\nOrt: SR 2 (Landeck)\n\nhttps://lfuonline.uibk.ac.at/public/lfuonline_lv.details?sem_id_in=19W&lvnr_id_in=146413\n
CLASS:PUBLIC
DTSTART:20191120T094500Z
DTEND:20191120T111500Z
DTSTAMP:20260420T130604Z
LOCATION:SR 2 (Landeck)
END:VEVENT
BEGIN:VEVENT
UID:19W_146413_3420157@uibk.ac.at
ORGANIZER;CN="LFU:online Universität Innsbruck":MAILTO:Uni-Innsbruck-noreply@uibk.ac.at
SUMMARY:VU Destinationsmanagement und -marketing (LV 146413-1 19W)
DESCRIPTION:Lehrveranstaltung 146413 19W, Gruppe 1\nTitel: VU Destinationsmanagement und -marketing\nOrt: SR 2 (Landeck)\n\nhttps://lfuonline.uibk.ac.at/public/lfuonline_lv.details?sem_id_in=19W&lvnr_id_in=146413\n
CLASS:PUBLIC
DTSTART:20191120T114500Z
DTEND:20191120T131500Z
DTSTAMP:20260420T130604Z
LOCATION:SR 2 (Landeck)
END:VEVENT
BEGIN:VEVENT
UID:19W_146413_3420142@uibk.ac.at
ORGANIZER;CN="LFU:online Universität Innsbruck":MAILTO:Uni-Innsbruck-noreply@uibk.ac.at
SUMMARY:VU Destinationsmanagement und -marketing (LV 146413-1 19W)
DESCRIPTION:Lehrveranstaltung 146413 19W, Gruppe 1\nTitel: VU Destinationsmanagement und -marketing\nOrt: UR 2 (Landeck)\n\nhttps://lfuonline.uibk.ac.at/public/lfuonline_lv.details?sem_id_in=19W&lvnr_id_in=146413\n
CLASS:PUBLIC
DTSTART:20191211T080000Z
DTEND:20191211T093000Z
DTSTAMP:20260420T130604Z
LOCATION:UR 2 (Landeck)
END:VEVENT
BEGIN:VEVENT
UID:19W_146413_3420145@uibk.ac.at
ORGANIZER;CN="LFU:online Universität Innsbruck":MAILTO:Uni-Innsbruck-noreply@uibk.ac.at
SUMMARY:VU Destinationsmanagement und -marketing (LV 146413-1 19W)
DESCRIPTION:Lehrveranstaltung 146413 19W, Gruppe 1\nTitel: VU Destinationsmanagement und -marketing\nOrt: UR 2 (Landeck)\n\nhttps://lfuonline.uibk.ac.at/public/lfuonline_lv.details?sem_id_in=19W&lvnr_id_in=146413\n
CLASS:PUBLIC
DTSTART:20191211T094500Z
DTEND:20191211T111500Z
DTSTAMP:20260420T130604Z
LOCATION:UR 2 (Landeck)
END:VEVENT
BEGIN:VEVENT
UID:19W_146413_3420147@uibk.ac.at
ORGANIZER;CN="LFU:online Universität Innsbruck":MAILTO:Uni-Innsbruck-noreply@uibk.ac.at
SUMMARY:VU Destinationsmanagement und -marketing (LV 146413-1 19W)
DESCRIPTION:Lehrveranstaltung 146413 19W, Gruppe 1\nTitel: VU Destinationsmanagement und -marketing\nOrt: UR 2 (Landeck)\n\nhttps://lfuonline.uibk.ac.at/public/lfuonline_lv.details?sem_id_in=19W&lvnr_id_in=146413\n
CLASS:PUBLIC
DTSTART:20191211T114500Z
DTEND:20191211T131500Z
DTSTAMP:20260420T130604Z
LOCATION:UR 2 (Landeck)
END:VEVENT
BEGIN:VEVENT
UID:19W_146413_3486738@uibk.ac.at
ORGANIZER;CN="LFU:online Universität Innsbruck":MAILTO:Uni-Innsbruck-noreply@uibk.ac.at
SUMMARY:VU Destinationsmanagement und -marketing (LV 146413-1 19W)
DESCRIPTION:Lehrveranstaltung 146413 19W, Gruppe 1\nTitel: VU Destinationsmanagement und -marketing\nOrt: UR 2 (Landeck)\n\nhttps://lfuonline.uibk.ac.at/public/lfuonline_lv.details?sem_id_in=19W&lvnr_id_in=146413\n
CLASS:PUBLIC
DTSTART:20200129T140000Z
DTEND:20200129T150000Z
DTSTAMP:20260420T130604Z
LOCATION:UR 2 (Landeck)
COMMENT:Klausurtermin
END:VEVENT
END:VCALENDAR