BEGIN:VCALENDAR
VERSION:2.0
PRODID:-//Universität Innsbruck//LFU:online//DE
METHOD:PUBLISH
BEGIN:VEVENT
UID:26S_844198_4988826@uibk.ac.at
ORGANIZER;CN="LFU:online Universität Innsbruck":MAILTO:Uni-Innsbruck-noreply@uibk.ac.at
SUMMARY:UE FEM - Nichtlineare Festigkeitsanalysen (LV 844198-1 26S)
DESCRIPTION:Lehrveranstaltung 844198 26S, Gruppe 1\nTitel: UE FEM - Nichtlineare Festigkeitsanalysen\nOrt: rr 14\n\nhttps://lfuonline.uibk.ac.at/public/lfuonline_lv.details?sem_id_in=26S&lvnr_id_in=844198\n
CLASS:PUBLIC
DTSTART:20260302T124500Z
DTEND:20260302T141500Z
DTSTAMP:20260423T070200Z
LOCATION:rr 14
END:VEVENT
BEGIN:VEVENT
UID:26S_844198_4988827@uibk.ac.at
ORGANIZER;CN="LFU:online Universität Innsbruck":MAILTO:Uni-Innsbruck-noreply@uibk.ac.at
SUMMARY:UE FEM - Nichtlineare Festigkeitsanalysen (LV 844198-1 26S)
DESCRIPTION:Lehrveranstaltung 844198 26S, Gruppe 1\nTitel: UE FEM - Nichtlineare Festigkeitsanalysen\nOrt: rr 14\n\nhttps://lfuonline.uibk.ac.at/public/lfuonline_lv.details?sem_id_in=26S&lvnr_id_in=844198\n
CLASS:PUBLIC
DTSTART:20260309T124500Z
DTEND:20260309T141500Z
DTSTAMP:20260423T070200Z
LOCATION:rr 14
END:VEVENT
BEGIN:VEVENT
UID:26S_844198_4988828@uibk.ac.at
ORGANIZER;CN="LFU:online Universität Innsbruck":MAILTO:Uni-Innsbruck-noreply@uibk.ac.at
SUMMARY:UE FEM - Nichtlineare Festigkeitsanalysen (LV 844198-1 26S)
DESCRIPTION:Lehrveranstaltung 844198 26S, Gruppe 1\nTitel: UE FEM - Nichtlineare Festigkeitsanalysen\nOrt: rr 14\n\nhttps://lfuonline.uibk.ac.at/public/lfuonline_lv.details?sem_id_in=26S&lvnr_id_in=844198\n
CLASS:PUBLIC
DTSTART:20260316T124500Z
DTEND:20260316T141500Z
DTSTAMP:20260423T070200Z
LOCATION:rr 14
END:VEVENT
BEGIN:VEVENT
UID:26S_844198_4988829@uibk.ac.at
ORGANIZER;CN="LFU:online Universität Innsbruck":MAILTO:Uni-Innsbruck-noreply@uibk.ac.at
SUMMARY:UE FEM - Nichtlineare Festigkeitsanalysen (LV 844198-1 26S)
DESCRIPTION:Lehrveranstaltung 844198 26S, Gruppe 1\nTitel: UE FEM - Nichtlineare Festigkeitsanalysen\nOrt: rr 14\n\nhttps://lfuonline.uibk.ac.at/public/lfuonline_lv.details?sem_id_in=26S&lvnr_id_in=844198\n
CLASS:PUBLIC
DTSTART:20260323T124500Z
DTEND:20260323T141500Z
DTSTAMP:20260423T070200Z
LOCATION:rr 14
END:VEVENT
BEGIN:VEVENT
UID:26S_844198_4988830@uibk.ac.at
ORGANIZER;CN="LFU:online Universität Innsbruck":MAILTO:Uni-Innsbruck-noreply@uibk.ac.at
SUMMARY:UE FEM - Nichtlineare Festigkeitsanalysen (LV 844198-1 26S)
DESCRIPTION:Lehrveranstaltung 844198 26S, Gruppe 1\nTitel: UE FEM - Nichtlineare Festigkeitsanalysen\nOrt: rr 14\n\nhttps://lfuonline.uibk.ac.at/public/lfuonline_lv.details?sem_id_in=26S&lvnr_id_in=844198\n
CLASS:PUBLIC
DTSTART:20260413T114500Z
DTEND:20260413T131500Z
DTSTAMP:20260423T070200Z
LOCATION:rr 14
END:VEVENT
BEGIN:VEVENT
UID:26S_844198_4988831@uibk.ac.at
ORGANIZER;CN="LFU:online Universität Innsbruck":MAILTO:Uni-Innsbruck-noreply@uibk.ac.at
SUMMARY:UE FEM - Nichtlineare Festigkeitsanalysen (LV 844198-1 26S)
DESCRIPTION:Lehrveranstaltung 844198 26S, Gruppe 1\nTitel: UE FEM - Nichtlineare Festigkeitsanalysen\nOrt: rr 14\n\nhttps://lfuonline.uibk.ac.at/public/lfuonline_lv.details?sem_id_in=26S&lvnr_id_in=844198\n
CLASS:PUBLIC
DTSTART:20260420T114500Z
DTEND:20260420T131500Z
DTSTAMP:20260423T070200Z
LOCATION:rr 14
END:VEVENT
BEGIN:VEVENT
UID:26S_844198_4988832@uibk.ac.at
ORGANIZER;CN="LFU:online Universität Innsbruck":MAILTO:Uni-Innsbruck-noreply@uibk.ac.at
SUMMARY:UE FEM - Nichtlineare Festigkeitsanalysen (LV 844198-1 26S)
DESCRIPTION:Lehrveranstaltung 844198 26S, Gruppe 1\nTitel: UE FEM - Nichtlineare Festigkeitsanalysen\nOrt: rr 14\n\nhttps://lfuonline.uibk.ac.at/public/lfuonline_lv.details?sem_id_in=26S&lvnr_id_in=844198\n
CLASS:PUBLIC
DTSTART:20260427T114500Z
DTEND:20260427T131500Z
DTSTAMP:20260423T070200Z
LOCATION:rr 14
END:VEVENT
BEGIN:VEVENT
UID:26S_844198_4988833@uibk.ac.at
ORGANIZER;CN="LFU:online Universität Innsbruck":MAILTO:Uni-Innsbruck-noreply@uibk.ac.at
SUMMARY:UE FEM - Nichtlineare Festigkeitsanalysen (LV 844198-1 26S)
DESCRIPTION:Lehrveranstaltung 844198 26S, Gruppe 1\nTitel: UE FEM - Nichtlineare Festigkeitsanalysen\nOrt: rr 14\n\nhttps://lfuonline.uibk.ac.at/public/lfuonline_lv.details?sem_id_in=26S&lvnr_id_in=844198\n
CLASS:PUBLIC
DTSTART:20260504T114500Z
DTEND:20260504T131500Z
DTSTAMP:20260423T070200Z
LOCATION:rr 14
END:VEVENT
BEGIN:VEVENT
UID:26S_844198_4988834@uibk.ac.at
ORGANIZER;CN="LFU:online Universität Innsbruck":MAILTO:Uni-Innsbruck-noreply@uibk.ac.at
SUMMARY:UE FEM - Nichtlineare Festigkeitsanalysen (LV 844198-1 26S)
DESCRIPTION:Lehrveranstaltung 844198 26S, Gruppe 1\nTitel: UE FEM - Nichtlineare Festigkeitsanalysen\nOrt: rr 14\n\nhttps://lfuonline.uibk.ac.at/public/lfuonline_lv.details?sem_id_in=26S&lvnr_id_in=844198\n
CLASS:PUBLIC
DTSTART:20260511T114500Z
DTEND:20260511T131500Z
DTSTAMP:20260423T070200Z
LOCATION:rr 14
END:VEVENT
BEGIN:VEVENT
UID:26S_844198_4988835@uibk.ac.at
ORGANIZER;CN="LFU:online Universität Innsbruck":MAILTO:Uni-Innsbruck-noreply@uibk.ac.at
SUMMARY:UE FEM - Nichtlineare Festigkeitsanalysen (LV 844198-1 26S)
DESCRIPTION:Lehrveranstaltung 844198 26S, Gruppe 1\nTitel: UE FEM - Nichtlineare Festigkeitsanalysen\nOrt: rr 14\n\nhttps://lfuonline.uibk.ac.at/public/lfuonline_lv.details?sem_id_in=26S&lvnr_id_in=844198\n
CLASS:PUBLIC
DTSTART:20260518T114500Z
DTEND:20260518T131500Z
DTSTAMP:20260423T070200Z
LOCATION:rr 14
END:VEVENT
BEGIN:VEVENT
UID:26S_844198_4988836@uibk.ac.at
ORGANIZER;CN="LFU:online Universität Innsbruck":MAILTO:Uni-Innsbruck-noreply@uibk.ac.at
SUMMARY:UE FEM - Nichtlineare Festigkeitsanalysen (LV 844198-1 26S)
DESCRIPTION:Lehrveranstaltung 844198 26S, Gruppe 1\nTitel: UE FEM - Nichtlineare Festigkeitsanalysen\nOrt: rr 14\n\nhttps://lfuonline.uibk.ac.at/public/lfuonline_lv.details?sem_id_in=26S&lvnr_id_in=844198\n
CLASS:PUBLIC
DTSTART:20260601T114500Z
DTEND:20260601T131500Z
DTSTAMP:20260423T070200Z
LOCATION:rr 14
END:VEVENT
BEGIN:VEVENT
UID:26S_844198_4988837@uibk.ac.at
ORGANIZER;CN="LFU:online Universität Innsbruck":MAILTO:Uni-Innsbruck-noreply@uibk.ac.at
SUMMARY:UE FEM - Nichtlineare Festigkeitsanalysen (LV 844198-1 26S)
DESCRIPTION:Lehrveranstaltung 844198 26S, Gruppe 1\nTitel: UE FEM - Nichtlineare Festigkeitsanalysen\nOrt: rr 14\n\nhttps://lfuonline.uibk.ac.at/public/lfuonline_lv.details?sem_id_in=26S&lvnr_id_in=844198\n
CLASS:PUBLIC
DTSTART:20260608T114500Z
DTEND:20260608T131500Z
DTSTAMP:20260423T070200Z
LOCATION:rr 14
END:VEVENT
BEGIN:VEVENT
UID:26S_844198_4988838@uibk.ac.at
ORGANIZER;CN="LFU:online Universität Innsbruck":MAILTO:Uni-Innsbruck-noreply@uibk.ac.at
SUMMARY:UE FEM - Nichtlineare Festigkeitsanalysen (LV 844198-1 26S)
DESCRIPTION:Lehrveranstaltung 844198 26S, Gruppe 1\nTitel: UE FEM - Nichtlineare Festigkeitsanalysen\nOrt: rr 14\n\nhttps://lfuonline.uibk.ac.at/public/lfuonline_lv.details?sem_id_in=26S&lvnr_id_in=844198\n
CLASS:PUBLIC
DTSTART:20260615T114500Z
DTEND:20260615T131500Z
DTSTAMP:20260423T070200Z
LOCATION:rr 14
END:VEVENT
BEGIN:VEVENT
UID:26S_844198_4988839@uibk.ac.at
ORGANIZER;CN="LFU:online Universität Innsbruck":MAILTO:Uni-Innsbruck-noreply@uibk.ac.at
SUMMARY:UE FEM - Nichtlineare Festigkeitsanalysen (LV 844198-1 26S)
DESCRIPTION:Lehrveranstaltung 844198 26S, Gruppe 1\nTitel: UE FEM - Nichtlineare Festigkeitsanalysen\nOrt: rr 14\n\nhttps://lfuonline.uibk.ac.at/public/lfuonline_lv.details?sem_id_in=26S&lvnr_id_in=844198\n
CLASS:PUBLIC
DTSTART:20260622T114500Z
DTEND:20260622T131500Z
DTSTAMP:20260423T070200Z
LOCATION:rr 14
END:VEVENT
END:VCALENDAR